BEGIN:VCALENDAR
VERSION:2.0
PRODID:-//Putney.news - ECPv6.15.20//NONSGML v1.0//EN
CALSCALE:GREGORIAN
METHOD:PUBLISH
X-WR-CALNAME:Putney.news
X-ORIGINAL-URL:https://putney.news
X-WR-CALDESC:Events for Putney.news
REFRESH-INTERVAL;VALUE=DURATION:PT1H
X-Robots-Tag:noindex
X-PUBLISHED-TTL:PT1H
BEGIN:VTIMEZONE
TZID:Europe/London
BEGIN:DAYLIGHT
TZOFFSETFROM:+0000
TZOFFSETTO:+0100
TZNAME:BST
DTSTART:20250330T010000
END:DAYLIGHT
BEGIN:STANDARD
TZOFFSETFROM:+0100
TZOFFSETTO:+0000
TZNAME:GMT
DTSTART:20251026T010000
END:STANDARD
BEGIN:DAYLIGHT
TZOFFSETFROM:+0000
TZOFFSETTO:+0100
TZNAME:BST
DTSTART:20260329T010000
END:DAYLIGHT
BEGIN:STANDARD
TZOFFSETFROM:+0100
TZOFFSETTO:+0000
TZNAME:GMT
DTSTART:20261025T010000
END:STANDARD
BEGIN:DAYLIGHT
TZOFFSETFROM:+0000
TZOFFSETTO:+0100
TZNAME:BST
DTSTART:20270328T010000
END:DAYLIGHT
BEGIN:STANDARD
TZOFFSETFROM:+0100
TZOFFSETTO:+0000
TZNAME:GMT
DTSTART:20271031T010000
END:STANDARD
END:VTIMEZONE
BEGIN:VEVENT
DTSTART;TZID=Europe/London:20260417T153000
DTEND;TZID=Europe/London:20260417T170000
DTSTAMP:20260420T151533
CREATED:20260205T105148Z
LAST-MODIFIED:20260205T105148Z
UID:10006956-1776439800-1776445200@putney.news
SUMMARY:Free Messy Play & Crafting
DESCRIPTION:Bring your little ones along for fun-filled messy play and crafting sessions at St Joseph’s Church in Roehampton! \nSession Details\nWhen: Every Friday from 16th January to 20th March 2026 \nTime: 3:30 PM – 5:00 PM \nWhere: St Joseph’s Church\, 218 Roehampton Lane\, SW15 4LE \nWho Can Attend\n\nChildren aged 0-5 years\nSEND children up to 8 years welcome\nParents and carers\n\nBooking Information\nBooking is essential – places must be booked in advance. \nPlease contact Orleen to book your place: \nEmail: Omcintosh@hotmail.co.uk \nAbout the Sessions\nThese free community sessions offer wonderful opportunities for sensory exploration and creative activities. Children can enjoy messy play activities designed to stimulate their development while parents connect with other families in the Roehampton community. \nSupported by the Alton Renewal Plan and Roehampton Partnership.
URL:https://putney.news/event/free-messy-play-crafting/2026-04-17/
LOCATION:St Joseph’s Church\, 218 Roehampton Lane\, London\, SW15 4LE\, United Kingdom
CATEGORIES:Family friendly
ATTACH;FMTTYPE=image/png:https://putney.news/wp-content/uploads/2025/10/family-friendly-RiI13z.png
ORGANIZER;CN="Alton Community":MAILTO:Omcintosh@hotmail.co.uk
END:VEVENT
END:VCALENDAR