BEGIN:VCALENDAR
VERSION:2.0
PRODID:-//Putney.news - ECPv6.15.20//NONSGML v1.0//EN
CALSCALE:GREGORIAN
METHOD:PUBLISH
X-WR-CALNAME:Putney.news
X-ORIGINAL-URL:https://putney.news
X-WR-CALDESC:Events for Putney.news
REFRESH-INTERVAL;VALUE=DURATION:PT1H
X-Robots-Tag:noindex
X-PUBLISHED-TTL:PT1H
BEGIN:VTIMEZONE
TZID:Europe/London
BEGIN:DAYLIGHT
TZOFFSETFROM:+0000
TZOFFSETTO:+0100
TZNAME:BST
DTSTART:20230326T010000
END:DAYLIGHT
BEGIN:STANDARD
TZOFFSETFROM:+0100
TZOFFSETTO:+0000
TZNAME:GMT
DTSTART:20231029T010000
END:STANDARD
BEGIN:DAYLIGHT
TZOFFSETFROM:+0000
TZOFFSETTO:+0100
TZNAME:BST
DTSTART:20240331T010000
END:DAYLIGHT
BEGIN:STANDARD
TZOFFSETFROM:+0100
TZOFFSETTO:+0000
TZNAME:GMT
DTSTART:20241027T010000
END:STANDARD
BEGIN:DAYLIGHT
TZOFFSETFROM:+0000
TZOFFSETTO:+0100
TZNAME:BST
DTSTART:20250330T010000
END:DAYLIGHT
BEGIN:STANDARD
TZOFFSETFROM:+0100
TZOFFSETTO:+0000
TZNAME:GMT
DTSTART:20251026T010000
END:STANDARD
END:VTIMEZONE
BEGIN:VTIMEZONE
TZID:UTC
BEGIN:STANDARD
TZOFFSETFROM:+0000
TZOFFSETTO:+0000
TZNAME:UTC
DTSTART:20230101T000000
END:STANDARD
END:VTIMEZONE
BEGIN:VEVENT
DTSTART;TZID=Europe/London:20241109T173000
DTEND;TZID=Europe/London:20241109T193000
DTSTAMP:20260421T072136
CREATED:20241001T124939Z
LAST-MODIFIED:20241001T124939Z
UID:10001452-1731173400-1731180600@putney.news
SUMMARY:Sip and Spin: Pottery Class at Putney School of Art and Design
DESCRIPTION:Flex your creative muscle with a Pottery class at Putney School of Art & Design. This is a BYOB event so you can enjoy a drink too!
URL:https://putney.news/event/sip-and-spin-pottery-class-at-putney-school-of-art-and-design-8/
LOCATION:Putney School of Art and Design\, Oxford Road\, London\, Greater London\, SW15 2LQ\, United Kingdom
CATEGORIES:Workshop
ATTACH;FMTTYPE=image/jpeg:https://putney.news/wp-content/uploads/2024/09/fd8c1e22e08edb8c82d1ee3cd2f594ae-1.jpg
END:VEVENT
BEGIN:VEVENT
DTSTART;TZID=Europe/London:20241102T173000
DTEND;TZID=Europe/London:20241102T193000
DTSTAMP:20260421T072136
CREATED:20241001T121345Z
LAST-MODIFIED:20241001T121345Z
UID:10001451-1730568600-1730575800@putney.news
SUMMARY:Sip and Spin: Pottery Class at Putney School of Art and Design
DESCRIPTION:Flex your creative muscle with a Pottery class at Putney School of Art & Design. This is a BYOB event so you can enjoy a drink too!
URL:https://putney.news/event/sip-and-spin-pottery-class-at-putney-school-of-art-and-design-6/
LOCATION:Putney School of Art and Design\, Oxford Road\, London\, Greater London\, SW15 2LQ\, United Kingdom
CATEGORIES:Workshop
ATTACH;FMTTYPE=image/jpeg:https://putney.news/wp-content/uploads/2024/09/fd8c1e22e08edb8c82d1ee3cd2f594ae-1.jpg
END:VEVENT
BEGIN:VEVENT
DTSTART;TZID=Europe/London:20241026T173000
DTEND;TZID=Europe/London:20241026T193000
DTSTAMP:20260421T072136
CREATED:20240930T181957Z
LAST-MODIFIED:20240930T181957Z
UID:10001450-1729963800-1729971000@putney.news
SUMMARY:Sip and Spin: Pottery Class at Putney School of Art and Design
DESCRIPTION:Flex your creative muscle with a Pottery class at Putney School of Art & Design. This is a BYOB event so you can enjoy a drink too!
URL:https://putney.news/event/sip-and-spin-pottery-class-at-putney-school-of-art-and-design-5/
LOCATION:Putney School of Art and Design\, Oxford Road\, London\, Greater London\, SW15 2LQ\, United Kingdom
CATEGORIES:Workshop
ATTACH;FMTTYPE=image/jpeg:https://putney.news/wp-content/uploads/2024/09/fd8c1e22e08edb8c82d1ee3cd2f594ae-1.jpg
END:VEVENT
BEGIN:VEVENT
DTSTART;TZID=Europe/London:20241020T110000
DTEND;TZID=Europe/London:20241020T160000
DTSTAMP:20260421T072136
CREATED:20240930T180146Z
LAST-MODIFIED:20240930T180146Z
UID:10001568-1729422000-1729440000@putney.news
SUMMARY:Open Day at Putney School of Art and Design
DESCRIPTION:Come and explore Putney School of Art and Design at our Open Day as part of the Brighter Living initiative by Wandsworth Council\n\n\nWelcome to the Open Day at Putney School of Art and Design! \nJoin us onSunday 20th October 11am – 4pm for an exciting opportunity to explore our creative space and meet our talented tutors and visit student stalls. You will also get the chance to sample some of classes between 1-4pm which will have the Printing Workshop and Painting workshop available. \nWhether you’re a beginner or an experienced artist\, this event is perfect for anyone interested in art and design. Throughout the day we will have taster sessions for all to enjoy – a great chance to sample just some of the classes on offer at the school! After you’ve sampled the lessons\, there’s a great opportunity to meet the members of PSAD and mingle with like-minded budding artists and families. \nCome visit us at Putney School of Art and Design and discover the endless possibilities of expressing yourself through art. We can’t wait to see you there!
URL:https://putney.news/event/open-day-at-putney-school-of-art-and-design/
LOCATION:Putney School of Art and Design\, Oxford Road\, London\, Greater London\, SW15 2LQ\, United Kingdom
CATEGORIES:Arts & Culture,Tour
ATTACH;FMTTYPE=image/jpeg:https://putney.news/wp-content/uploads/2024/09/c7036c0ab480009ff36269ef6b8202cc-1.jpg
END:VEVENT
BEGIN:VEVENT
DTSTART;TZID=Europe/London:20241019T173000
DTEND;TZID=Europe/London:20241019T193000
DTSTAMP:20260421T072136
CREATED:20240930T180028Z
LAST-MODIFIED:20240930T180028Z
UID:10001449-1729359000-1729366200@putney.news
SUMMARY:Sip and Spin: Pottery Class at Putney School of Art and Design
DESCRIPTION:Flex your creative muscle with a Pottery class at Putney School of Art & Design. This is a BYOB event so you can enjoy a drink too!
URL:https://putney.news/event/sip-and-spin-pottery-class-at-putney-school-of-art-and-design-4/
LOCATION:Putney School of Art and Design\, Oxford Road\, London\, Greater London\, SW15 2LQ\, United Kingdom
CATEGORIES:Workshop
ATTACH;FMTTYPE=image/jpeg:https://putney.news/wp-content/uploads/2024/09/fd8c1e22e08edb8c82d1ee3cd2f594ae-1.jpg
END:VEVENT
BEGIN:VEVENT
DTSTART;TZID=Europe/London:20241012T173000
DTEND;TZID=Europe/London:20241012T193000
DTSTAMP:20260421T072136
CREATED:20240930T175641Z
LAST-MODIFIED:20240930T175641Z
UID:10001448-1728754200-1728761400@putney.news
SUMMARY:Sip and Spin: Pottery Class at Putney School of Art and Design
DESCRIPTION:Flex your creative muscle with a Pottery class at Putney School of Art & Design. This is a BYOB event so you can enjoy a drink too!
URL:https://putney.news/event/sip-and-spin-pottery-class-at-putney-school-of-art-and-design-3/
LOCATION:Putney School of Art and Design\, Oxford Road\, London\, Greater London\, SW15 2LQ\, United Kingdom
CATEGORIES:Workshop
ATTACH;FMTTYPE=image/jpeg:https://putney.news/wp-content/uploads/2024/09/fd8c1e22e08edb8c82d1ee3cd2f594ae-1.jpg
END:VEVENT
BEGIN:VEVENT
DTSTART;TZID=Europe/London:20241005T173000
DTEND;TZID=Europe/London:20241005T193000
DTSTAMP:20260421T072136
CREATED:20240930T174949Z
LAST-MODIFIED:20240930T174949Z
UID:10001447-1728149400-1728156600@putney.news
SUMMARY:Sip and Spin: Pottery Class at Putney School of Art and Design
DESCRIPTION:Flex your creative muscle with a Pottery class at Putney School of Art & Design. This is a BYOB event so you can enjoy a drink too!
URL:https://putney.news/event/sip-and-spin-pottery-class-at-putney-school-of-art-and-design-2/
LOCATION:Putney School of Art and Design\, Oxford Road\, London\, Greater London\, SW15 2LQ\, United Kingdom
CATEGORIES:Workshop
ATTACH;FMTTYPE=image/jpeg:https://putney.news/wp-content/uploads/2024/09/fd8c1e22e08edb8c82d1ee3cd2f594ae-1.jpg
END:VEVENT
BEGIN:VEVENT
DTSTART;TZID=Europe/London:20240928T173000
DTEND;TZID=Europe/London:20240928T193000
DTSTAMP:20260421T072136
CREATED:20240930T174556Z
LAST-MODIFIED:20240930T174556Z
UID:10001446-1727544600-1727551800@putney.news
SUMMARY:Sip and Spin: Pottery Class at Putney School of Art and Design
DESCRIPTION:Flex your creative muscle with a Pottery class at Putney School of Art & Design. This is a BYOB event so you can enjoy a drink too!
URL:https://putney.news/event/sip-and-spin-pottery-class-at-putney-school-of-art-and-design/
LOCATION:Putney School of Art and Design\, Oxford Road\, London\, Greater London\, SW15 2LQ\, United Kingdom
CATEGORIES:Workshop
ATTACH;FMTTYPE=image/jpeg:https://putney.news/wp-content/uploads/2024/09/fd8c1e22e08edb8c82d1ee3cd2f594ae-1.jpg
END:VEVENT
BEGIN:VEVENT
DTSTART;TZID=Europe/London:20240517T180000
DTEND;TZID=Europe/London:20240517T210000
DTSTAMP:20260421T072136
CREATED:20240512T085451Z
LAST-MODIFIED:20240512T133302Z
UID:10000828-1715968800-1715979600@putney.news
SUMMARY:Open Evening at Putney School of Art and Design
DESCRIPTION:Come and explore Putney School of Art and Design at our Open Evening – it’s your chance to see what we’re all about!\n\n\nWelcome to the Open Evening at Putney School of Art and Design! Join us on Fri May 17\, 2024 at 6:00 PM for an exciting opportunity to explore our creative space and meet our talented tutors. Whether you’re a beginner or an experienced artist\, this event is perfect for anyone interested in art and design. Throughout the evening we will have taster sessions for all to enjoy – a great chance to sample just some of the classes on offer at the school! After you’ve sampled the lessons\, there’s a great opportunity to meet the members of PSAD and mingle with like-minded budding artists. You will be greeted with a welcome drink & canapés to set the evenings tone to start your weekend right. \nCome visit us at Putney School of Art and Design and discover the endless possibilities of expressing yourself through art. We can’t wait to see you there!
URL:https://putney.news/event/open-evening-at-putney-school-of-art-and-design/
LOCATION:Putney School of Art and Design\, Oxford Road\, London\, Greater London\, SW15 2LQ\, United Kingdom
CATEGORIES:Art show
ATTACH;FMTTYPE=image/jpeg:https://putney.news/wp-content/uploads/2024/05/42ef2749b889a17c7a159a8ed2dcf5b8.jpg
END:VEVENT
BEGIN:VEVENT
DTSTART;TZID=UTC:20240415T180000
DTEND;TZID=UTC:20240503T200000
DTSTAMP:20260421T072136
CREATED:20240429T105858Z
LAST-MODIFIED:20240429T110033Z
UID:10000291-1713204000-1714766400@putney.news
SUMMARY:Putney Art School: Gwen Spencer exhibition of paintings and drawings
DESCRIPTION:Local Putney painter Gwen Spencer is presenting a collection of her work at the Putney School of Art and Design (PSAD) from 15 April to 3 May.\n\n\n\n\n\n\n\n\n\n\n\n\n\nThe retrospective exhibition is for all ages and all generations. Gwen has selected a broad range of her creative output that reflects her achievements over a lifetime as an artist\, including scenes from Wimbledon Common and Richmond Park\, lively sketches of polo matches as well as still life\, figurative and other landscape works.\n\n\n\n\n \nGwen Spencer\nPainting and drawing have been an important part of Gwen Spencer’s life for more than 80 years. In 1971 Gwen was elected a member of the National Society of Painters\, Sculptors and Printmakers and was Secretary of the Society from 1987 until 2012. Gwen has regularly exhibited small collections of her work in London and the Home Counties and has sold over 100 paintings and drawings to art collectors all over the world. Now\, at the age of 96\, she has decided to share a selection of her paintings and drawings\, many of which have never been seen in public before. She has worked in a variety of media including oil\, pastel\, charcoal and collage. \nGwen Spencer was born in Argentina in 1927\, the daughter of British parents. She grew up partly in Jersey and mainly in Hurlingham\, a suburb of Buenos Aires. She married Chris in 1952 and moved to the UK where they settled in Wimbledon. Gwen had studied drawing and painting at the Atelier Josse in Buenos Aires but settling into a new life on a different continent\, and the arrival of three children\, put art temporarily on hold. By 1964 she was able to start attending morning classes at the Putney School of Art and Design. This soon transitioned to all day and continued to 1981 when Gwen and a group of friends from Putney organised a painting group that met regularly for more than 20 years. Gwen has three children\, seven grandchildren and eight great grandchildren. \n\n\n\n\n\n\n\n\n\n 
URL:https://putney.news/event/putney-art-school-gwen-spencer/
LOCATION:Putney School of Art and Design\, Oxford Road\, London\, Greater London\, SW15 2LQ\, United Kingdom
CATEGORIES:Art show
ATTACH;FMTTYPE=image/jpeg:https://putney.news/wp-content/uploads/2024/04/GwenSpencer_image1.jpg
ORGANIZER;CN="Putney School of Art and Design":MAILTO:psad@enablelc.org
END:VEVENT
END:VCALENDAR