BEGIN:VCALENDAR
VERSION:2.0
PRODID:-//Putney.news - ECPv6.15.20//NONSGML v1.0//EN
CALSCALE:GREGORIAN
METHOD:PUBLISH
X-WR-CALNAME:Putney.news
X-ORIGINAL-URL:https://putney.news
X-WR-CALDESC:Events for Putney.news
REFRESH-INTERVAL;VALUE=DURATION:PT1H
X-Robots-Tag:noindex
X-PUBLISHED-TTL:PT1H
BEGIN:VTIMEZONE
TZID:Europe/London
BEGIN:DAYLIGHT
TZOFFSETFROM:+0000
TZOFFSETTO:+0100
TZNAME:BST
DTSTART:20230326T010000
END:DAYLIGHT
BEGIN:STANDARD
TZOFFSETFROM:+0100
TZOFFSETTO:+0000
TZNAME:GMT
DTSTART:20231029T010000
END:STANDARD
BEGIN:DAYLIGHT
TZOFFSETFROM:+0000
TZOFFSETTO:+0100
TZNAME:BST
DTSTART:20240331T010000
END:DAYLIGHT
BEGIN:STANDARD
TZOFFSETFROM:+0100
TZOFFSETTO:+0000
TZNAME:GMT
DTSTART:20241027T010000
END:STANDARD
BEGIN:DAYLIGHT
TZOFFSETFROM:+0000
TZOFFSETTO:+0100
TZNAME:BST
DTSTART:20250330T010000
END:DAYLIGHT
BEGIN:STANDARD
TZOFFSETFROM:+0100
TZOFFSETTO:+0000
TZNAME:GMT
DTSTART:20251026T010000
END:STANDARD
END:VTIMEZONE
BEGIN:VEVENT
DTSTART;TZID=Europe/London:20241001T100000
DTEND;TZID=Europe/London:20241001T110000
DTSTAMP:20260421T050842
CREATED:20240930T174745Z
LAST-MODIFIED:20240930T174745Z
UID:10001495-1727776800-1727780400@putney.news
SUMMARY:Oasis Academy Putney Morning Open Tours
DESCRIPTION:Discover Oasis Academy Putney! Join our Open Tours every Tuesday at 10 am from 10th September 2024
URL:https://putney.news/event/oasis-academy-putney-morning-open-tours-2/
LOCATION:Oasis Academy Putney\, 184 Lower Richmond Road\, London\, England\, SW15 1LY\, United Kingdom
CATEGORIES:Tour
ATTACH;FMTTYPE=image/jpeg:https://putney.news/wp-content/uploads/2024/09/7aa9343a5457424fb626d82efa4c52d6.jpg
END:VEVENT
BEGIN:VEVENT
DTSTART;TZID=Europe/London:20240924T100000
DTEND;TZID=Europe/London:20240924T110000
DTSTAMP:20260421T050842
CREATED:20240930T174322Z
LAST-MODIFIED:20240930T174322Z
UID:10001493-1727172000-1727175600@putney.news
SUMMARY:Oasis Academy Putney Morning Open Tours
DESCRIPTION:Discover Oasis Academy Putney! Join our Open Tours every Tuesday at 10 am from 10th September 2024
URL:https://putney.news/event/oasis-academy-putney-morning-open-tours/
LOCATION:Oasis Academy Putney\, 184 Lower Richmond Road\, London\, England\, SW15 1LY\, United Kingdom
CATEGORIES:Tour
ATTACH;FMTTYPE=image/jpeg:https://putney.news/wp-content/uploads/2024/09/7aa9343a5457424fb626d82efa4c52d6-1.jpg
END:VEVENT
END:VCALENDAR