BEGIN:VCALENDAR
VERSION:2.0
PRODID:-//Putney.news - ECPv6.15.20//NONSGML v1.0//EN
CALSCALE:GREGORIAN
METHOD:PUBLISH
X-ORIGINAL-URL:https://putney.news
X-WR-CALDESC:Events for Putney.news
REFRESH-INTERVAL;VALUE=DURATION:PT1H
X-Robots-Tag:noindex
X-PUBLISHED-TTL:PT1H
BEGIN:VTIMEZONE
TZID:Europe/London
BEGIN:DAYLIGHT
TZOFFSETFROM:+0000
TZOFFSETTO:+0100
TZNAME:BST
DTSTART:20230326T010000
END:DAYLIGHT
BEGIN:STANDARD
TZOFFSETFROM:+0100
TZOFFSETTO:+0000
TZNAME:GMT
DTSTART:20231029T010000
END:STANDARD
BEGIN:DAYLIGHT
TZOFFSETFROM:+0000
TZOFFSETTO:+0100
TZNAME:BST
DTSTART:20240331T010000
END:DAYLIGHT
BEGIN:STANDARD
TZOFFSETFROM:+0100
TZOFFSETTO:+0000
TZNAME:GMT
DTSTART:20241027T010000
END:STANDARD
BEGIN:DAYLIGHT
TZOFFSETFROM:+0000
TZOFFSETTO:+0100
TZNAME:BST
DTSTART:20250330T010000
END:DAYLIGHT
BEGIN:STANDARD
TZOFFSETFROM:+0100
TZOFFSETTO:+0000
TZNAME:GMT
DTSTART:20251026T010000
END:STANDARD
BEGIN:DAYLIGHT
TZOFFSETFROM:+0000
TZOFFSETTO:+0100
TZNAME:BST
DTSTART:20260329T010000
END:DAYLIGHT
BEGIN:STANDARD
TZOFFSETFROM:+0100
TZOFFSETTO:+0000
TZNAME:GMT
DTSTART:20261025T010000
END:STANDARD
END:VTIMEZONE
BEGIN:VEVENT
DTSTART;TZID=Europe/London:20251106T193000
DTEND;TZID=Europe/London:20251106T210000
DTSTAMP:20260420T200337
CREATED:20250808T095904Z
LAST-MODIFIED:20250808T095904Z
UID:10004101-1762457400-1762462800@putney.news
SUMMARY:Kundalini\, Cacoa & Sound
DESCRIPTION:Join us for a beautiful evening of Ceremonial Cacoa\, heart led Kundalini Yoga\, Meditation & Sound Healing. Magic & magnificence happening
URL:https://putney.news/event/kundalini-cacoa-sound/2025-11-06/
LOCATION:Richmond & Putney Unitarians\, Ormond Road\, London\, England\, TW10 6TH\, United Kingdom
CATEGORIES:Health & Wellbeing,Music
ATTACH;FMTTYPE=image/jpeg:https://putney.news/wp-content/uploads/2024/07/e7ebb1bedb581e6be9238fecbeb4a77f-1.jpg
END:VEVENT
BEGIN:VEVENT
DTSTART;TZID=Europe/London:20241205T193000
DTEND;TZID=Europe/London:20241205T210000
DTSTAMP:20260420T200337
CREATED:20241001T125214Z
LAST-MODIFIED:20241001T125214Z
UID:10001533-1733427000-1733432400@putney.news
SUMMARY:Kundalini Yoga\, Meditation & Gong Sound Healing
DESCRIPTION:Join us for Kundalini Yoga & Meditation with Gong Sound Healing. Experience a class of magnificence. Be part of our growing community
URL:https://putney.news/event/kundalini-yoga-meditation-gong-sound-healing-3/
LOCATION:Richmond & Putney Unitarians\, Ormond Road\, London\, England\, TW10 6TH\, United Kingdom
CATEGORIES:Health & Wellbeing
ATTACH;FMTTYPE=image/jpeg:https://putney.news/wp-content/uploads/2024/09/1b76da87c8360104484a8dd1f8a2092e-1.jpg
END:VEVENT
BEGIN:VEVENT
DTSTART;TZID=Europe/London:20241107T193000
DTEND;TZID=Europe/London:20241107T210000
DTSTAMP:20260420T200337
CREATED:20241001T121525Z
LAST-MODIFIED:20241001T121525Z
UID:10001532-1731007800-1731013200@putney.news
SUMMARY:Kundalini Yoga\, Meditation & Gong Sound Healing
DESCRIPTION:Join us for Kundalini Yoga & Meditation with Gong Sound Healing. Experience a class of magnificence. Be part of our growing community
URL:https://putney.news/event/kundalini-yoga-meditation-gong-sound-healing-2/
LOCATION:Richmond & Putney Unitarians\, Ormond Road\, London\, England\, TW10 6TH\, United Kingdom
CATEGORIES:Health & Wellbeing
ATTACH;FMTTYPE=image/jpeg:https://putney.news/wp-content/uploads/2024/09/1b76da87c8360104484a8dd1f8a2092e-1.jpg
END:VEVENT
BEGIN:VEVENT
DTSTART;TZID=Europe/London:20241003T193000
DTEND;TZID=Europe/London:20241003T210000
DTSTAMP:20260420T200337
CREATED:20240930T174907Z
LAST-MODIFIED:20240930T174907Z
UID:10001531-1727983800-1727989200@putney.news
SUMMARY:Kundalini Yoga\, Meditation & Gong Sound Healing
DESCRIPTION:Join us for Kundalini Yoga & Meditation with Gong Sound Healing. Experience a class of magnificence. Be part of our growing community
URL:https://putney.news/event/kundalini-yoga-meditation-gong-sound-healing/
LOCATION:Richmond & Putney Unitarians\, Ormond Road\, London\, England\, TW10 6TH\, United Kingdom
CATEGORIES:Health & Wellbeing
ATTACH;FMTTYPE=image/jpeg:https://putney.news/wp-content/uploads/2024/09/1b76da87c8360104484a8dd1f8a2092e-1.jpg
END:VEVENT
END:VCALENDAR