BEGIN:VCALENDAR
VERSION:2.0
PRODID:-//Putney.news - ECPv6.15.20//NONSGML v1.0//EN
CALSCALE:GREGORIAN
METHOD:PUBLISH
X-ORIGINAL-URL:https://putney.news
X-WR-CALDESC:Events for Putney.news
REFRESH-INTERVAL;VALUE=DURATION:PT1H
X-Robots-Tag:noindex
X-PUBLISHED-TTL:PT1H
BEGIN:VTIMEZONE
TZID:Europe/London
BEGIN:DAYLIGHT
TZOFFSETFROM:+0000
TZOFFSETTO:+0100
TZNAME:BST
DTSTART:20240331T010000
END:DAYLIGHT
BEGIN:STANDARD
TZOFFSETFROM:+0100
TZOFFSETTO:+0000
TZNAME:GMT
DTSTART:20241027T010000
END:STANDARD
BEGIN:DAYLIGHT
TZOFFSETFROM:+0000
TZOFFSETTO:+0100
TZNAME:BST
DTSTART:20250330T010000
END:DAYLIGHT
BEGIN:STANDARD
TZOFFSETFROM:+0100
TZOFFSETTO:+0000
TZNAME:GMT
DTSTART:20251026T010000
END:STANDARD
BEGIN:DAYLIGHT
TZOFFSETFROM:+0000
TZOFFSETTO:+0100
TZNAME:BST
DTSTART:20260329T010000
END:DAYLIGHT
BEGIN:STANDARD
TZOFFSETFROM:+0100
TZOFFSETTO:+0000
TZNAME:GMT
DTSTART:20261025T010000
END:STANDARD
END:VTIMEZONE
BEGIN:VEVENT
DTSTART;TZID=Europe/London:20250829T070000
DTEND;TZID=Europe/London:20250829T080000
DTSTAMP:20260422T033132
CREATED:20250808T095534Z
LAST-MODIFIED:20250808T095534Z
UID:10004098-1756450800-1756454400@putney.news
SUMMARY:Social Fridays | Run
DESCRIPTION:A no-drop weekly run starting and finishing at the clubhouse. 6km riverside loop over Hammersmith Bridge and Putney Bridge. 05:30/km pace
URL:https://putney.news/event/social-fridays-run/2025-08-29/
LOCATION:The Clubhouse\, 1a Putney Embankment\, London\, England\, SW15 1LB\, United Kingdom
CATEGORIES:Community
ATTACH;FMTTYPE=image/jpeg:https://putney.news/wp-content/uploads/2025/07/15dee98b682a9b4877aa36e4270c4b3e.jpg
END:VEVENT
END:VCALENDAR