BEGIN:VCALENDAR
VERSION:2.0
PRODID:-//Putney.news - ECPv6.15.20//NONSGML v1.0//EN
CALSCALE:GREGORIAN
METHOD:PUBLISH
X-ORIGINAL-URL:https://putney.news
X-WR-CALDESC:Events for Putney.news
REFRESH-INTERVAL;VALUE=DURATION:PT1H
X-Robots-Tag:noindex
X-PUBLISHED-TTL:PT1H
BEGIN:VTIMEZONE
TZID:Europe/London
BEGIN:DAYLIGHT
TZOFFSETFROM:+0000
TZOFFSETTO:+0100
TZNAME:BST
DTSTART:20240331T010000
END:DAYLIGHT
BEGIN:STANDARD
TZOFFSETFROM:+0100
TZOFFSETTO:+0000
TZNAME:GMT
DTSTART:20241027T010000
END:STANDARD
BEGIN:DAYLIGHT
TZOFFSETFROM:+0000
TZOFFSETTO:+0100
TZNAME:BST
DTSTART:20250330T010000
END:DAYLIGHT
BEGIN:STANDARD
TZOFFSETFROM:+0100
TZOFFSETTO:+0000
TZNAME:GMT
DTSTART:20251026T010000
END:STANDARD
BEGIN:DAYLIGHT
TZOFFSETFROM:+0000
TZOFFSETTO:+0100
TZNAME:BST
DTSTART:20260329T010000
END:DAYLIGHT
BEGIN:STANDARD
TZOFFSETFROM:+0100
TZOFFSETTO:+0000
TZNAME:GMT
DTSTART:20261025T010000
END:STANDARD
END:VTIMEZONE
BEGIN:VEVENT
DTSTART;TZID=Europe/London:20250409T180000
DTEND;TZID=Europe/London:20250409T193000
DTSTAMP:20260422T031607
CREATED:20250409T164955Z
LAST-MODIFIED:20250409T164955Z
UID:10001710-1744221600-1744227000@putney.news
SUMMARY:Free Meditation & Yoga
DESCRIPTION:Inner pure desire can help the process of awakening the Kundalini energy within and transport us into spontaneous yoga\, meditation\, silence.\n\n\nHello there! – \nWe’d like to welcome you to Free weekly meetings hosted by Max\, Vishali & friends which take place at the: \nPutney Library\, 5-7 Disraeli Rd\, Putney\, London\, SW15 2DR \non Wednesday evenings from 6.00pm until 7.30pm \nWith Sahaja Yoga Meditation we normally sit on chairs to achieve yoga\, effortlessly & spontaneously. So there is no need for mats and no special clothing required. \nInner pure desire can help in the process of awakening the Kundalini energy within and transport us into spontaneous yoga\, meditation\, silence & joy. This potentiality resides in every person\, we simply have to desire its awakening & learn how to do it. \nInner Transformation \nOnce the indwelling kundalini is awakened\, we get to experience our own Self Realisation otherwise known as Yoga and can then also truly get into meditation. When we achieve Yoga and this connection establishes – our subtle system is nourished and that awakening allows us to get into the meditative state known as ‘thoughtless awareness’. \nHere the mental engine switches off and rests\, our thoughts desist and recede and we can enjoy the fruits of not being bombarded with thoughts for a while. Imagine that! \nIt could be said that one of the main benefits of not thinking for a while is that the overused and overheated pathways in the brain get to take a holiday from being relentlessly engaged in processing these constantly arising impulses know as thoughts. Once these thoughts arise\, the brain automatically functions and goes to work perceiving & formulating ‘understandings’. \nOnce the activity of thought generation is removed from the in-tray\, the brain can get busy on perceiving\, what remains in the absence of thoughts\, which is ….. wait for it…..yes\, you guessed it …. reality. \nThis awareness of reality\, undisturbed by thoughts arising\, is know as Nirvikalpa Samadhi – or in English language\, ‘thoughtless awareness’. \nIn this state the experience is described as being Sat-chit-ananda – or in English language Truth\, Consciousness\, Bliss.The term\, which attempts to describe the nature of reality\, or Absolute Reality\, has been coined by those who through history have described the experience\, in realizing the unity and wholeness of all existence. \nThis outcome in personal development\, inner transformation and spiritual ascent is know as yoga. Yoga means union or connection. Hence\, this connection is akin to switching on the Spiritual Wifi within\, connecting us to the whole universe of life and our existence. \nBig stuff maybe. Luckily the experience is both free & spontaneous and as mentioned earlier only requires our personal desire to ‘have it’ for it to begin working out and actualising. \n 
URL:https://putney.news/event/free-meditation-yoga/
LOCATION:Putney Library\, 5-7 Disraeli Road\, London\, England\, SW15 2DR\, United Kingdom
CATEGORIES:Fitness
ATTACH;FMTTYPE=image/jpeg:https://putney.news/wp-content/uploads/2025/04/6147ac6f17c275a43553741d531a797f-1.jpg
END:VEVENT
BEGIN:VEVENT
DTSTART;TZID=Europe/London:20250409T180000
DTEND;TZID=Europe/London:20250409T193000
DTSTAMP:20260422T031607
CREATED:20250408T224657Z
LAST-MODIFIED:20250408T230107Z
UID:10001709-1744221600-1744227000@putney.news
SUMMARY:Free Meditation & Yoga - Putney
DESCRIPTION:Inner pure desire can help the process of awakening the Kundalini energy within and transport us into spontaneous yoga\, meditation\, silence.\n\n\nHello there! – \nWe’d like to welcome you to Free weekly meetings hosted by Max\, Vishali & friends which take place at the: \nPutney Library\, 5-7 Disraeli Rd\, Putney\, London\, SW15 2DR \non Wednesday evenings from 6.00pm until 7.30pm \nWith Sahaja Yoga Meditation we normally sit on chairs to achieve yoga\, effortlessly & spontaneously. So there is no need for mats and no special clothing required. \nInner pure desire can help in the process of awakening the Kundalini energy within and transport us into spontaneous yoga\, meditation\, silence & joy. This potentiality resides in every person\, we simply have to desire its awakening & learn how to do it. \nInner Transformation \nOnce the indwelling kundalini is awakened\, we get to experience our own Self Realisation otherwise known as Yoga and can then also truly get into meditation. When we achieve Yoga and this connection establishes – our subtle system is nourished and that awakening allows us to get into the meditative state known as ‘thoughtless awareness’. \nHere the mental engine switches off and rests\, our thoughts desist and recede and we can enjoy the fruits of not being bombarded with thoughts for a while. Imagine that! \nIt could be said that one of the main benefits of not thinking for a while is that the overused and overheated pathways in the brain get to take a holiday from being relentlessly engaged in processing these constantly arising impulses know as thoughts. Once these thoughts arise\, the brain automatically functions and goes to work perceiving & formulating ‘understandings’. \nOnce the activity of thought generation is removed from the in-tray\, the brain can get busy on perceiving\, what remains in the absence of thoughts\, which is ….. wait for it…..yes\, you guessed it …. reality. \nThis awareness of reality\, undisturbed by thoughts arising\, is know as Nirvikalpa Samadhi – or in English language\, ‘thoughtless awareness’. \nIn this state the experience is described as being Sat-chit-ananda – or in English language Truth\, Consciousness\, Bliss.The term\, which attempts to describe the nature of reality\, or Absolute Reality\, has been coined by those who through history have described the experience\, in realizing the unity and wholeness of all existence. \nThis outcome in personal development\, inner transformation and spiritual ascent is know as yoga. Yoga means union or connection. Hence\, this connection is akin to switching on the Spiritual Wifi within\, connecting us to the whole universe of life and our existence. \nBig stuff maybe. Luckily the experience is both free & spontaneous and as mentioned earlier only requires our personal desire to ‘have it’ for it to begin working out and actualising. \n 
URL:https://putney.news/event/free-meditation-yoga-putney-wednesdays-6-00-7-30pm/
LOCATION:Putney Library\, 5-7 Disraeli Road\, London\, England\, SW15 2DR\, United Kingdom
CATEGORIES:Fitness
ATTACH;FMTTYPE=image/jpeg:https://putney.news/wp-content/uploads/2025/04/6147ac6f17c275a43553741d531a797f.jpg
END:VEVENT
END:VCALENDAR