BEGIN:VCALENDAR
VERSION:2.0
PRODID:-//Putney.news - ECPv6.15.20//NONSGML v1.0//EN
CALSCALE:GREGORIAN
METHOD:PUBLISH
X-ORIGINAL-URL:https://putney.news
X-WR-CALDESC:Events for Putney.news
REFRESH-INTERVAL;VALUE=DURATION:PT1H
X-Robots-Tag:noindex
X-PUBLISHED-TTL:PT1H
BEGIN:VTIMEZONE
TZID:Europe/London
BEGIN:DAYLIGHT
TZOFFSETFROM:+0000
TZOFFSETTO:+0100
TZNAME:BST
DTSTART:20240331T010000
END:DAYLIGHT
BEGIN:STANDARD
TZOFFSETFROM:+0100
TZOFFSETTO:+0000
TZNAME:GMT
DTSTART:20241027T010000
END:STANDARD
BEGIN:DAYLIGHT
TZOFFSETFROM:+0000
TZOFFSETTO:+0100
TZNAME:BST
DTSTART:20250330T010000
END:DAYLIGHT
BEGIN:STANDARD
TZOFFSETFROM:+0100
TZOFFSETTO:+0000
TZNAME:GMT
DTSTART:20251026T010000
END:STANDARD
BEGIN:DAYLIGHT
TZOFFSETFROM:+0000
TZOFFSETTO:+0100
TZNAME:BST
DTSTART:20260329T010000
END:DAYLIGHT
BEGIN:STANDARD
TZOFFSETFROM:+0100
TZOFFSETTO:+0000
TZNAME:GMT
DTSTART:20261025T010000
END:STANDARD
END:VTIMEZONE
BEGIN:VEVENT
DTSTART;TZID=Europe/London:20250527T130000
DTEND;TZID=Europe/London:20250527T140000
DTSTAMP:20260422T063223
CREATED:20250518T041448Z
LAST-MODIFIED:20250518T041448Z
UID:10001817-1748350800-1748354400@putney.news
SUMMARY:Flower arranging session
DESCRIPTION:Join us for a delightful hands-on event in partnership with Blooms London! \nWe’re hosting two free jam jar flower arranging sessions across two dates\, where you’ll learn the art of flower arranging and how to care for your blooms at home. \nDiscover what’s in season\, pick up expert tips from the Blooms London team and create your own arrangement to take home. \nSessions are free\, but spaces are limited. \nLocation: Putney Exchange Shopping Centre – event will be hosted near the escalators. \nTo reserve your place\, please email: Claudia@bloomsatlondon.com. \nSpaces are on a first come\, first served basis.
URL:https://putney.news/event/flower-arranging-session/2025-05-27/
LOCATION:Putney Exchange\, 3 Putney High Street\, London\, SW15 1TW\, United Kingdom
CATEGORIES:Workshop
ATTACH;FMTTYPE=image/jpeg:https://putney.news/wp-content/uploads/2025/05/IMG_2143.jpeg
END:VEVENT
END:VCALENDAR