BEGIN:VCALENDAR
VERSION:2.0
PRODID:-//Putney.news - ECPv6.15.20//NONSGML v1.0//EN
CALSCALE:GREGORIAN
METHOD:PUBLISH
X-ORIGINAL-URL:https://putney.news
X-WR-CALDESC:Events for Putney.news
REFRESH-INTERVAL;VALUE=DURATION:PT1H
X-Robots-Tag:noindex
X-PUBLISHED-TTL:PT1H
BEGIN:VTIMEZONE
TZID:Europe/London
BEGIN:DAYLIGHT
TZOFFSETFROM:+0000
TZOFFSETTO:+0100
TZNAME:BST
DTSTART:20240331T010000
END:DAYLIGHT
BEGIN:STANDARD
TZOFFSETFROM:+0100
TZOFFSETTO:+0000
TZNAME:GMT
DTSTART:20241027T010000
END:STANDARD
BEGIN:DAYLIGHT
TZOFFSETFROM:+0000
TZOFFSETTO:+0100
TZNAME:BST
DTSTART:20250330T010000
END:DAYLIGHT
BEGIN:STANDARD
TZOFFSETFROM:+0100
TZOFFSETTO:+0000
TZNAME:GMT
DTSTART:20251026T010000
END:STANDARD
BEGIN:DAYLIGHT
TZOFFSETFROM:+0000
TZOFFSETTO:+0100
TZNAME:BST
DTSTART:20260329T010000
END:DAYLIGHT
BEGIN:STANDARD
TZOFFSETFROM:+0100
TZOFFSETTO:+0000
TZNAME:GMT
DTSTART:20261025T010000
END:STANDARD
BEGIN:DAYLIGHT
TZOFFSETFROM:+0000
TZOFFSETTO:+0100
TZNAME:BST
DTSTART:20270328T010000
END:DAYLIGHT
BEGIN:STANDARD
TZOFFSETFROM:+0100
TZOFFSETTO:+0000
TZNAME:GMT
DTSTART:20271031T010000
END:STANDARD
END:VTIMEZONE
BEGIN:VEVENT
DTSTART;TZID=Europe/London:20260114T153000
DTEND;TZID=Europe/London:20260114T163000
DTSTAMP:20260423T025118
CREATED:20260103T222516Z
LAST-MODIFIED:20260103T222516Z
UID:10006916-1768404600-1768408200@putney.news
SUMMARY:Winnie the Pooh Day Craft Activity
DESCRIPTION:Celebrate Winnie the Pooh Day on Wednesday 18 January with a special themed craft activity at Southfields Library on Wednesday 14 January from 3:30pm to 4:30pm. This free family-friendly session welcomes children aged 3 and up to create Pooh Bear-inspired crafts in the heart of the SW19 community. No booking required – simply drop in to Southfields Library and join the fun celebrating A.A. Milne’s beloved character who has captured children’s imaginations for nearly a century. The activity offers young children in Putney\, Southfields\, and surrounding Wandsworth areas an opportunity to develop creativity while engaging with classic children’s literature. Parents and carers can bring children for an hour of imaginative craft-making featuring characters from the Hundred Acre Wood including Pooh\, Piglet\, Eeyore\, and Tigger. This community event at Wandsworth Libraries supports early childhood literacy and creativity in a welcoming library environment. Perfect for preschoolers and early primary school children who love the timeless stories of Christopher Robin and his animal friends.
URL:https://putney.news/event/winnie-the-pooh-day-craft-activity-2/
LOCATION:Southfields Library\, 300 Wimbledon Park Road\, SW19 6NL
CATEGORIES:Family friendly
ATTACH;FMTTYPE=image/png:https://putney.news/wp-content/uploads/2025/10/family-friendly-RiI13z.png
END:VEVENT
BEGIN:VEVENT
DTSTART;TZID=Europe/London:20250114T153000
DTEND;TZID=Europe/London:20250114T163000
DTSTAMP:20260423T025118
CREATED:20260103T221305Z
LAST-MODIFIED:20260103T221305Z
UID:10006893-1736868600-1736872200@putney.news
SUMMARY:Winnie the Pooh Day Craft Activity
DESCRIPTION:Celebrate Winnie the Pooh Day on Wednesday 18 January with a special themed craft activity at Southfields Library on Wednesday 14 January from 3:30pm to 4:30pm. This free family-friendly session welcomes children aged 3 and up to create Pooh Bear-inspired crafts in the heart of the SW19 community. No booking required – simply drop in to Southfields Library and join the fun celebrating A.A. Milne’s beloved character who has captured children’s imaginations for nearly a century. The activity offers young children in Putney\, Southfields\, and surrounding Wandsworth areas an opportunity to develop creativity while engaging with classic children’s literature. Parents and carers can bring children for an hour of imaginative craft-making featuring characters from the Hundred Acre Wood including Pooh\, Piglet\, Eeyore\, and Tigger. This community event at Wandsworth Libraries supports early childhood literacy and creativity in a welcoming library environment. Perfect for preschoolers and early primary school children who love the timeless stories of Christopher Robin and his animal friends.
URL:https://putney.news/event/winnie-the-pooh-day-craft-activity/
LOCATION:Southfields Library\, 300 Wimbledon Park Road\, SW19 6NL
CATEGORIES:Family friendly
ATTACH;FMTTYPE=image/png:https://putney.news/wp-content/uploads/2025/10/family-friendly-RiI13z.png
END:VEVENT
END:VCALENDAR