BEGIN:VCALENDAR
VERSION:2.0
PRODID:-//Putney.news - ECPv6.15.20//NONSGML v1.0//EN
CALSCALE:GREGORIAN
METHOD:PUBLISH
X-ORIGINAL-URL:https://putney.news
X-WR-CALDESC:Events for Putney.news
REFRESH-INTERVAL;VALUE=DURATION:PT1H
X-Robots-Tag:noindex
X-PUBLISHED-TTL:PT1H
BEGIN:VTIMEZONE
TZID:Europe/London
BEGIN:DAYLIGHT
TZOFFSETFROM:+0000
TZOFFSETTO:+0100
TZNAME:BST
DTSTART:20240331T010000
END:DAYLIGHT
BEGIN:STANDARD
TZOFFSETFROM:+0100
TZOFFSETTO:+0000
TZNAME:GMT
DTSTART:20241027T010000
END:STANDARD
BEGIN:DAYLIGHT
TZOFFSETFROM:+0000
TZOFFSETTO:+0100
TZNAME:BST
DTSTART:20250330T010000
END:DAYLIGHT
BEGIN:STANDARD
TZOFFSETFROM:+0100
TZOFFSETTO:+0000
TZNAME:GMT
DTSTART:20251026T010000
END:STANDARD
BEGIN:DAYLIGHT
TZOFFSETFROM:+0000
TZOFFSETTO:+0100
TZNAME:BST
DTSTART:20260329T010000
END:DAYLIGHT
BEGIN:STANDARD
TZOFFSETFROM:+0100
TZOFFSETTO:+0000
TZNAME:GMT
DTSTART:20261025T010000
END:STANDARD
BEGIN:DAYLIGHT
TZOFFSETFROM:+0000
TZOFFSETTO:+0100
TZNAME:BST
DTSTART:20270328T010000
END:DAYLIGHT
BEGIN:STANDARD
TZOFFSETFROM:+0100
TZOFFSETTO:+0000
TZNAME:GMT
DTSTART:20271031T010000
END:STANDARD
END:VTIMEZONE
BEGIN:VEVENT
DTSTART;TZID=Europe/London:20260414T200000
DTEND;TZID=Europe/London:20260414T220000
DTSTAMP:20260419T165001
CREATED:20250701T173948Z
LAST-MODIFIED:20250701T174048Z
UID:10002453-1776196800-1776204000@putney.news
SUMMARY:Quiz Night at The Jolly Gardeners
DESCRIPTION:Join us for Quiz Night at The Jolly Gardeners in Putney – a fun weekly pub quiz with a rolling jackpot and exciting “Deal or No Deal” style envelope ending. Test your knowledge and compete for the chance to win the jackpot or 2 bottles of house wine. Perfect for pub quiz enthusiasts and groups looking for a fun evening out at this welcoming local pub.
URL:https://putney.news/event/quiz-night-at-the-jolly-gardeners-2/2026-04-14/
LOCATION:The Jolly Gardeners\, 61-63 Lacy Road\, London\, SW15 1NT\, United Kingdom
CATEGORIES:Quiz Night
ATTACH;FMTTYPE=image/jpeg:https://putney.news/wp-content/uploads/2025/07/jolly-gardeners.jpg
END:VEVENT
BEGIN:VEVENT
DTSTART;TZID=Europe/London:20251029T193000
DTEND;TZID=Europe/London:20251029T213000
DTSTAMP:20260419T165002
CREATED:20251008T111031Z
LAST-MODIFIED:20251008T111031Z
UID:10005409-1761766200-1761773400@putney.news
SUMMARY:Halloween Themed Pub Quiz
DESCRIPTION:Put your Halloween knowledge to the test at The Spotted Horse’s special Halloween Themed Pub Quiz on October 29th. Gather your friends\, form a team\, and compete for glory in this spooky twist on the classic pub quiz format. \n**Quiz Details:**\n• Halloween-themed questions and rounds\n• Team competition format\n• Prizes for winning teams\n• Typical pub quiz atmosphere\n• Evening session \n**What to Expect:** This isn’t your average pub quiz! Expect questions covering Halloween history\, horror movies\, spooky folklore\, and seasonal trivia alongside general knowledge rounds. The Halloween theme adds a festive twist perfect for the season. \n**Team Formation:** Come with your ready-made team or form one on the night. Most pub quizzes accommodate teams of 4-6 players. \n**Location:** The Spotted Horse pub in Putney. A great opportunity to test your knowledge while enjoying the friendly pub atmosphere just before Halloween!
URL:https://putney.news/event/halloween-themed-pub-quiz/
LOCATION:The Spotted Horse\, 122 Putney High Street\, SW15 1RG\, London\, United Kingdom
CATEGORIES:Quiz Night
ATTACH;FMTTYPE=image/png:https://putney.news/wp-content/uploads/2025/10/quiz-night-rx67uN.png
GEO:51.46258;-0.216296
X-APPLE-STRUCTURED-LOCATION;VALUE=URI;X-ADDRESS=The Spotted Horse 122 Putney High Street SW15 1RG London United Kingdom;X-APPLE-RADIUS=500;X-TITLE=122 Putney High Street\, SW15 1RG:geo:-0.216296,51.46258
END:VEVENT
END:VCALENDAR