BEGIN:VCALENDAR
VERSION:2.0
PRODID:-//Putney.news - ECPv6.15.20//NONSGML v1.0//EN
CALSCALE:GREGORIAN
METHOD:PUBLISH
X-ORIGINAL-URL:https://putney.news
X-WR-CALDESC:Events for Putney.news
REFRESH-INTERVAL;VALUE=DURATION:PT1H
X-Robots-Tag:noindex
X-PUBLISHED-TTL:PT1H
BEGIN:VTIMEZONE
TZID:Europe/London
BEGIN:DAYLIGHT
TZOFFSETFROM:+0000
TZOFFSETTO:+0100
TZNAME:BST
DTSTART:20240331T010000
END:DAYLIGHT
BEGIN:STANDARD
TZOFFSETFROM:+0100
TZOFFSETTO:+0000
TZNAME:GMT
DTSTART:20241027T010000
END:STANDARD
BEGIN:DAYLIGHT
TZOFFSETFROM:+0000
TZOFFSETTO:+0100
TZNAME:BST
DTSTART:20250330T010000
END:DAYLIGHT
BEGIN:STANDARD
TZOFFSETFROM:+0100
TZOFFSETTO:+0000
TZNAME:GMT
DTSTART:20251026T010000
END:STANDARD
BEGIN:DAYLIGHT
TZOFFSETFROM:+0000
TZOFFSETTO:+0100
TZNAME:BST
DTSTART:20260329T010000
END:DAYLIGHT
BEGIN:STANDARD
TZOFFSETFROM:+0100
TZOFFSETTO:+0000
TZNAME:GMT
DTSTART:20261025T010000
END:STANDARD
END:VTIMEZONE
BEGIN:VEVENT
DTSTART;VALUE=DATE:20250601
DTEND;VALUE=DATE:20250602
DTSTAMP:20260422T024804
CREATED:20250518T042458Z
LAST-MODIFIED:20250518T042458Z
UID:10001818-1748736000-1748822399@putney.news
SUMMARY:The Lydia String performance
DESCRIPTION: The Lydian String are performing at Putney Exchange on Sunday 1st June\, playing music from a range of genres. \nThe Lydian String are committed to a continuous programme of cancer fundraising. Since 2001\, they have given in excess of £180\,000 to UK based cancer charities – over £140\,000 of it for Macmillan Cancer Support. \nSee the performance in the space outside Waitrose.
URL:https://putney.news/event/the-lydia-string-performance/
LOCATION:Putney Exchange\, 3 Putney High Street\, London\, SW15 1TW\, United Kingdom
CATEGORIES:Music
ATTACH;FMTTYPE=image/jpeg:https://putney.news/wp-content/uploads/2025/05/IMG_2144.jpeg
END:VEVENT
END:VCALENDAR