BEGIN:VCALENDAR
VERSION:2.0
PRODID:-//Putney.news - ECPv6.15.20//NONSGML v1.0//EN
CALSCALE:GREGORIAN
METHOD:PUBLISH
X-ORIGINAL-URL:https://putney.news
X-WR-CALDESC:Events for Putney.news
REFRESH-INTERVAL;VALUE=DURATION:PT1H
X-Robots-Tag:noindex
X-PUBLISHED-TTL:PT1H
BEGIN:VTIMEZONE
TZID:Europe/London
BEGIN:DAYLIGHT
TZOFFSETFROM:+0000
TZOFFSETTO:+0100
TZNAME:BST
DTSTART:20240331T010000
END:DAYLIGHT
BEGIN:STANDARD
TZOFFSETFROM:+0100
TZOFFSETTO:+0000
TZNAME:GMT
DTSTART:20241027T010000
END:STANDARD
BEGIN:DAYLIGHT
TZOFFSETFROM:+0000
TZOFFSETTO:+0100
TZNAME:BST
DTSTART:20250330T010000
END:DAYLIGHT
BEGIN:STANDARD
TZOFFSETFROM:+0100
TZOFFSETTO:+0000
TZNAME:GMT
DTSTART:20251026T010000
END:STANDARD
BEGIN:DAYLIGHT
TZOFFSETFROM:+0000
TZOFFSETTO:+0100
TZNAME:BST
DTSTART:20260329T010000
END:DAYLIGHT
BEGIN:STANDARD
TZOFFSETFROM:+0100
TZOFFSETTO:+0000
TZNAME:GMT
DTSTART:20261025T010000
END:STANDARD
END:VTIMEZONE
BEGIN:VEVENT
DTSTART;TZID=Europe/London:20251219T100000
DTEND;TZID=Europe/London:20251219T170000
DTSTAMP:20260423T074836
CREATED:20251108T123514Z
LAST-MODIFIED:20251108T124255Z
UID:10006860-1766138400-1766163600@putney.news
SUMMARY:Oxford University Boat Club Trial VIIIs
DESCRIPTION:Experience the intensity of the Oxford University Boat Club Trial VIIIs at Thames Rowing Club on Putney Embankment. This is where Oxford’s top 16 rowers will compete in their only full trial run over the Championship Course before the main Boat Race day. \nJoin us in the historic clubhouse to watch the racing and follow live updates on screen. The event features stalls for Christmas gifts and Boat Race merchandise\, professional photography\, hot drinks and a full bar. BBC commentator Jonathan Legard will be hosting throughout the day\, with a guest speaker to be announced. \nThis is a unique opportunity to see world-class rowing up close as the athletes battle for their place in the prestigious Boat Race. The Trial VIIIs are a key part of the selection process\, with rowers competing under pressure in race conditions. \nDoors open at 10:00 AM. Book your tickets now on our website – availability is limited and tickets sell out quickly. Experience the tradition and excitement of one of rowing’s most historic events at its spiritual home on the Thames at Putney.
URL:https://putney.news/event/oxford-university-boat-club-trial-viiis/
LOCATION:Thames Rowing Club\, Putney Embankment\, SW15 1LB
CATEGORIES:Sports
ATTACH;FMTTYPE=image/jpeg:https://putney.news/wp-content/uploads/2025/11/oxford-j12-event.jpg
GEO:51.4696891;-0.2202869
X-APPLE-STRUCTURED-LOCATION;VALUE=URI;X-ADDRESS=Thames Rowing Club Putney Embankment SW15 1LB;X-APPLE-RADIUS=500;X-TITLE=Putney Embankment:geo:-0.2202869,51.4696891
END:VEVENT
BEGIN:VEVENT
DTSTART;TZID=Europe/London:20251218T090000
DTEND;TZID=Europe/London:20251218T160000
DTSTAMP:20260423T074836
CREATED:20251108T123512Z
LAST-MODIFIED:20251108T124410Z
UID:10006859-1766048400-1766073600@putney.news
SUMMARY:Cambridge University Boat Club Trial VIIIs
DESCRIPTION:Experience the intensity of the Cambridge University Boat Club Trial VIIIs at Thames Rowing Club on Putney Embankment. This is where Cambridge’s top 16 rowers will compete in their only full trial run over the Championship Course before the main Boat Race day. \nJoin us in the historic clubhouse to watch the racing and follow live updates on screen. The event features stalls for Christmas gifts and Boat Race merchandise\, professional photography\, hot drinks and a full bar. BBC commentator Jonathan Legard will be hosting throughout the day\, with a guest speaker to be announced. \nThis is a unique opportunity to see world-class rowing up close as the athletes battle for their place in the prestigious Boat Race. The Trial VIIIs are a key part of the selection process\, with rowers competing under pressure in race conditions. \nDoors open at 9:00 AM. Book your tickets now on our website – availability is limited and tickets sell out quickly. Experience the tradition and excitement of one of rowing’s most historic events at its spiritual home on the Thames at Putney.
URL:https://putney.news/event/cambridge-university-boat-club-trial-viiis/
LOCATION:Thames Rowing Club\, Putney Embankment\, SW15 1LB
CATEGORIES:Sports
ATTACH;FMTTYPE=image/jpeg:https://putney.news/wp-content/uploads/2025/11/cambridge-j12-race.jpg
GEO:51.4696891;-0.2202869
X-APPLE-STRUCTURED-LOCATION;VALUE=URI;X-ADDRESS=Thames Rowing Club Putney Embankment SW15 1LB;X-APPLE-RADIUS=500;X-TITLE=Putney Embankment:geo:-0.2202869,51.4696891
END:VEVENT
END:VCALENDAR