BEGIN:VCALENDAR
VERSION:2.0
PRODID:-//Putney.news - ECPv6.15.20//NONSGML v1.0//EN
CALSCALE:GREGORIAN
METHOD:PUBLISH
X-ORIGINAL-URL:https://putney.news
X-WR-CALDESC:Events for Putney.news
REFRESH-INTERVAL;VALUE=DURATION:PT1H
X-Robots-Tag:noindex
X-PUBLISHED-TTL:PT1H
BEGIN:VTIMEZONE
TZID:Europe/London
BEGIN:DAYLIGHT
TZOFFSETFROM:+0000
TZOFFSETTO:+0100
TZNAME:BST
DTSTART:20240331T010000
END:DAYLIGHT
BEGIN:STANDARD
TZOFFSETFROM:+0100
TZOFFSETTO:+0000
TZNAME:GMT
DTSTART:20241027T010000
END:STANDARD
BEGIN:DAYLIGHT
TZOFFSETFROM:+0000
TZOFFSETTO:+0100
TZNAME:BST
DTSTART:20250330T010000
END:DAYLIGHT
BEGIN:STANDARD
TZOFFSETFROM:+0100
TZOFFSETTO:+0000
TZNAME:GMT
DTSTART:20251026T010000
END:STANDARD
BEGIN:DAYLIGHT
TZOFFSETFROM:+0000
TZOFFSETTO:+0100
TZNAME:BST
DTSTART:20260329T010000
END:DAYLIGHT
BEGIN:STANDARD
TZOFFSETFROM:+0100
TZOFFSETTO:+0000
TZNAME:GMT
DTSTART:20261025T010000
END:STANDARD
END:VTIMEZONE
BEGIN:VEVENT
DTSTART;TZID=Europe/London:20250504T133000
DTEND;TZID=Europe/London:20250504T133000
DTSTAMP:20260421T215319
CREATED:20250422T092938Z
LAST-MODIFIED:20250422T092938Z
UID:10001772-1746365400-1746365400@putney.news
SUMMARY:Half Moon Music - Bessie Deakin ~ Magic Man + Rebecca Quee
DESCRIPTION:  \n\nBessie Deakin is a cross-genre singer-songwriter from London. \nShe is a regular on the Half Moon stage and will be back with a full band for the afternoon\, performing her EP ‘Lady Red’ as well as new material ‘Sweet Tooth’\, ‘Tennis King’ and a vintage pop ballad ‘Magic Man’. She is influenced by Kate Bush\, Stevie Nicks & Dolly Parton. She can be found performing more regularly in cafes and pubs in South West London. Visit her website for more info. \nRebecca Quee is a Jazz/Acoustic singer from Sydney Australia. She has performed at The Half Moon\, The Troubadour Earls Court and The Bulls Head Jazz Bar in Barnes. She will be accompanied by Paul Cudmore on guitar\, performing a cover set of well-loved favourites for the Half Moon. Expect beautiful effortless covers of your most loved tracks. \n\n \nLine Up\n\n\n\nBessie Deakin\n\n\n\n  \n\n\n\n\n\nRebecca Quee\n\n\n\nRebecca Quee is a Jazz/Acoustic singer from Sydney Australia. \nShe has performed at The Half Moon\, The Troubadour Earls Court and The Bulls Head Jazz Bar in Barnes. She will be performing a cover set of well-loved favourites for the Half Moon. Expect beautiful effortless covers of your most loved tracks. \n\n\n\n\n\n\n\n\n\n18+ after 7pm
URL:https://putney.news/event/half-moon-music-bessie-deakin-magic-man-rebecca-quee/
LOCATION:The Half Moon\, 93 Lower Richmond Road\, London\, SW15 1EU\, United Kingdom
CATEGORIES:Music
ATTACH;FMTTYPE=image/png:https://putney.news/wp-content/uploads/2025/04/the-half-moon-bessie-deakin.png
ORGANIZER;CN="Half Moon":MAILTO:halfmoon@youngs.co.uk
GEO:51.467323;-0.220009
X-APPLE-STRUCTURED-LOCATION;VALUE=URI;X-ADDRESS=The Half Moon 93 Lower Richmond Road London SW15 1EU United Kingdom;X-APPLE-RADIUS=500;X-TITLE=93 Lower Richmond Road:geo:-0.220009,51.467323
END:VEVENT
END:VCALENDAR