BEGIN:VCALENDAR
VERSION:2.0
PRODID:-//Putney.news - ECPv6.15.20//NONSGML v1.0//EN
CALSCALE:GREGORIAN
METHOD:PUBLISH
X-ORIGINAL-URL:https://putney.news
X-WR-CALDESC:Events for Putney.news
REFRESH-INTERVAL;VALUE=DURATION:PT1H
X-Robots-Tag:noindex
X-PUBLISHED-TTL:PT1H
BEGIN:VTIMEZONE
TZID:Europe/London
BEGIN:DAYLIGHT
TZOFFSETFROM:+0000
TZOFFSETTO:+0100
TZNAME:BST
DTSTART:20240331T010000
END:DAYLIGHT
BEGIN:STANDARD
TZOFFSETFROM:+0100
TZOFFSETTO:+0000
TZNAME:GMT
DTSTART:20241027T010000
END:STANDARD
BEGIN:DAYLIGHT
TZOFFSETFROM:+0000
TZOFFSETTO:+0100
TZNAME:BST
DTSTART:20250330T010000
END:DAYLIGHT
BEGIN:STANDARD
TZOFFSETFROM:+0100
TZOFFSETTO:+0000
TZNAME:GMT
DTSTART:20251026T010000
END:STANDARD
BEGIN:DAYLIGHT
TZOFFSETFROM:+0000
TZOFFSETTO:+0100
TZNAME:BST
DTSTART:20260329T010000
END:DAYLIGHT
BEGIN:STANDARD
TZOFFSETFROM:+0100
TZOFFSETTO:+0000
TZNAME:GMT
DTSTART:20261025T010000
END:STANDARD
END:VTIMEZONE
BEGIN:VEVENT
DTSTART;TZID=Europe/London:20250809T090000
DTEND;TZID=Europe/London:20250809T100000
DTSTAMP:20260422T080345
CREATED:20250828T230930Z
LAST-MODIFIED:20250828T230930Z
UID:10003310-1754730000-1754733600@putney.news
SUMMARY:Amazing August - Vinyasa flow yoga class
DESCRIPTION:Vinyasa flow yoga class at Phoenix Yoga. Class is 18+ and suitable for all levels. You can expect a gentle yoga class focusing on movement and mindfulness. Book your spot here.
URL:https://putney.news/event/amazing-august-vinyasa-flow-yoga-class/
LOCATION:Phoenix Yoga\, 228 Upper Richmond Road\, London\, SW15 6TG\, United Kingdom
CATEGORIES:Fitness
END:VEVENT
BEGIN:VEVENT
DTSTART;TZID=Europe/London:20250809T140000
DTEND;TZID=Europe/London:20250809T170000
DTSTAMP:20260422T080345
CREATED:20250828T230930Z
LAST-MODIFIED:20250828T230930Z
UID:10003309-1754748000-1754758800@putney.news
SUMMARY:Amazing August - Guacamole workshop
DESCRIPTION:Guacamole workshop at Chipotle. Come along to Chipotle to learn how their famous guacamole is made. Guacamole demonstrations will take place at 2pm\, 3pm and 4pm. You are then welcome to dine at Chipotle with the ‘Free kids meal for every Main meal purchased’. If you cannot make the workshop\, do not worry\, take advantage of the special one-day promotion instead!
URL:https://putney.news/event/amazing-august-guacamole-workshop/
LOCATION:Chipotle\, 88-90 Putney High Street\, London\, SW15 1RB\, United Kingdom
CATEGORIES:Workshop
END:VEVENT
BEGIN:VEVENT
DTSTART;TZID=Europe/London:20250810T130000
DTEND;TZID=Europe/London:20250810T140000
DTSTAMP:20260422T080345
CREATED:20250828T230931Z
LAST-MODIFIED:20250828T230931Z
UID:10003311-1754830800-1754834400@putney.news
SUMMARY:Amazing August - Street Opera Performance
DESCRIPTION:Street Opera Performance at Putney Library/Spotted Horse/Waterstones. The Elixir of Love (Re‑imagined) Street Opera Performance is appropriate for all ages. Baseless Fabric Theatre is bringing Donizetti’s beloved comedy to life in a brand-new adaptation. The Elixir of Love (Re‑imagined) is a short\, sweet\, and playful modern rom-com\, set against the pulse of London’s high streets. Join us for free performances outside Putney Library\, The Spotted Horse\, and Waterstones\, perfect for all ages and fun for the whole family! Find out more here!
URL:https://putney.news/event/amazing-august-street-opera-performance/
LOCATION:Putney Library\, 5-7 Disraeli Road\, London\, England\, SW15 2DR\, United Kingdom
CATEGORIES:Arts & Culture
END:VEVENT
BEGIN:VEVENT
DTSTART;TZID=Europe/London:20250830T194500
DTEND;TZID=Europe/London:20250830T220000
DTSTAMP:20260422T080345
CREATED:20250808T093559Z
LAST-MODIFIED:20250808T094219Z
UID:10003728-1756583100-1756591200@putney.news
SUMMARY:The Curious Incident of the Dog in the Night-Time
DESCRIPTION:Directed by Frances Bodiam \nThe dog is dead. Pierced with a garden fork. Standing on the lawn in the middle of the night beside Wellington is fifteen-year-old Christopher. His neighbour and the police believe he is responsible. \nDetermined to uncover the killer\, Christopher turns detective\, recording his findings in his special book. His quest will not be straightforward\, however. He can remember all the world’s capital cities and every prime number up to seven thousand five hundred and seven\, but he can’t bear being touched and he has never explored beyond the end of his road. \nSolving the mystery will turn Christopher’s small world on its head in this heartwarming\, life-affirming and bleakly funny drama adapted from Haddon’s bestselling\, award-winning novel. \nFirst presented by the National Theatre in 2012 it garnered many accolades including the 2013 Olivier Award for Best Play and 2015 Tony Award for Best Play. \nThis amateur production of “The Curious Incident of the Dog in the Night-Time” is presented by arrangement with Concord Theatricals on behalf of Samuel French Ltd. \n  \nPRICES\nFull Price: £18 \nConcessions: £14 \nPTC Members: £12
URL:https://putney.news/event/the-curious-incident-of-the-dog-in-the-night-time/2025-08-30/
LOCATION:Putney Arts Theatre\, Ravenna Road\, Putney\, SW15 6AW
CATEGORIES:Theatre
ATTACH;FMTTYPE=image/jpeg:https://putney.news/wp-content/uploads/2025/08/Curious-Incident-800x600px.jpg
ORGANIZER;CN="Putney Arts Theatre":MAILTO:info@putneyartstheatre.org.uk
END:VEVENT
BEGIN:VEVENT
DTSTART;TZID=Europe/London:20250831T140000
DTEND;TZID=Europe/London:20250831T144500
DTSTAMP:20260422T080345
CREATED:20250805T125917Z
LAST-MODIFIED:20250805T131536Z
UID:10003340-1756648800-1756651500@putney.news
SUMMARY:Pet pals’ workshop
DESCRIPTION:Pet pals’ workshop at Pets at Home. Our My Pet Pals workshops teach children how rewarding pets can be and how to care for them. Kids will receive a fun pocketbook full of activities\, a My Pet Pals certificate\, and have the chance to meet some amazing animals – all for FREE! Ages 4+ recommended. Book your free slot here.
URL:https://putney.news/event/amazing-august-pet-pals-workshop/
LOCATION:Pets at Home\, 225 Upper Richmond Road\, London\, SW15 6SJ
CATEGORIES:Workshop
ATTACH;FMTTYPE=image/png:https://putney.news/wp-content/uploads/2025/08/grooming.png
END:VEVENT
END:VCALENDAR