BEGIN:VCALENDAR
VERSION:2.0
PRODID:-//Putney.news - ECPv6.15.20//NONSGML v1.0//EN
CALSCALE:GREGORIAN
METHOD:PUBLISH
X-ORIGINAL-URL:https://putney.news
X-WR-CALDESC:Events for Putney.news
REFRESH-INTERVAL;VALUE=DURATION:PT1H
X-Robots-Tag:noindex
X-PUBLISHED-TTL:PT1H
BEGIN:VTIMEZONE
TZID:Europe/London
BEGIN:DAYLIGHT
TZOFFSETFROM:+0000
TZOFFSETTO:+0100
TZNAME:BST
DTSTART:20240331T010000
END:DAYLIGHT
BEGIN:STANDARD
TZOFFSETFROM:+0100
TZOFFSETTO:+0000
TZNAME:GMT
DTSTART:20241027T010000
END:STANDARD
BEGIN:DAYLIGHT
TZOFFSETFROM:+0000
TZOFFSETTO:+0100
TZNAME:BST
DTSTART:20250330T010000
END:DAYLIGHT
BEGIN:STANDARD
TZOFFSETFROM:+0100
TZOFFSETTO:+0000
TZNAME:GMT
DTSTART:20251026T010000
END:STANDARD
BEGIN:DAYLIGHT
TZOFFSETFROM:+0000
TZOFFSETTO:+0100
TZNAME:BST
DTSTART:20260329T010000
END:DAYLIGHT
BEGIN:STANDARD
TZOFFSETFROM:+0100
TZOFFSETTO:+0000
TZNAME:GMT
DTSTART:20261025T010000
END:STANDARD
END:VTIMEZONE
BEGIN:VEVENT
DTSTART;TZID=Europe/London:20250801T200000
DTEND;TZID=Europe/London:20250801T200000
DTSTAMP:20260421T202748
CREATED:20250808T094907Z
LAST-MODIFIED:20250808T094907Z
UID:10003279-1754078400-1754078400@putney.news
SUMMARY:Half Moon Music - Less Pacaminos
DESCRIPTION:  \n\n\n\n\n\n\n\n\nBack by popular demand – Less Pacaminos will be on stage at the Half Moon this August. \nAfter the resounding success of their two-night residency in November 2024\, ‘Less Pacaminos’ will be returning to the Half Moon in August! \nNo doubt you have heard of Los Pacaminos\, the UK’s foremost Tex-Mex band\, which was formed in 1992 by Paul Young. As an accomplished seven-piece – made up of some of the best musicians in the business – the band regularly sells out shows at the Half Moon and across the UK\, with a growing setlist of crowd favourites and an unmatched live reputation. \nLate last year\, Paul was sadly forced to stop touring after breaking his leg. While he was always going to be missed on stage\, the band received unprecedented demand from venues and fans alike\, and the rest of the band resolved that the show must go on. As a six-piece\, they played a number of sell-out gigs under the wholly appropriate name of ‘Less Pacaminos’. \nFor 2025\, Paul is thankfully back and busier than ever\, with another solo UK tour\, before heading to the USA to support Rick Springfield. Although he will be away in early August\, we’ve had so many requests for a summer Tex Mex party\, that Less Pacaminos have agreed to return to the Half Moon stage – for one night only! \nWe recommend you book early. With their unique blend of Tex-Mex music\, an unmatched stage presence and their unique sense of fun\, the boys will have you dancing all night. It’s an evening not to be missed! \n\n\n\n\n\n\n\n\n 
URL:https://putney.news/event/half-moon-music-less-pacaminos/
LOCATION:The Half Moon\, 93 Lower Richmond Road\, London\, SW15 1EU\, United Kingdom
CATEGORIES:Music
ATTACH;FMTTYPE=image/png:https://putney.news/wp-content/uploads/2025/07/Screenshot-2025-07-30-30516-PM.png
ORGANIZER;CN="Half Moon":MAILTO:halfmoon@youngs.co.uk
GEO:51.467323;-0.220009
X-APPLE-STRUCTURED-LOCATION;VALUE=URI;X-ADDRESS=The Half Moon 93 Lower Richmond Road London SW15 1EU United Kingdom;X-APPLE-RADIUS=500;X-TITLE=93 Lower Richmond Road:geo:-0.220009,51.467323
END:VEVENT
END:VCALENDAR