BEGIN:VCALENDAR
VERSION:2.0
PRODID:-//Putney.news - ECPv6.15.20//NONSGML v1.0//EN
CALSCALE:GREGORIAN
METHOD:PUBLISH
X-ORIGINAL-URL:https://putney.news
X-WR-CALDESC:Events for Putney.news
REFRESH-INTERVAL;VALUE=DURATION:PT1H
X-Robots-Tag:noindex
X-PUBLISHED-TTL:PT1H
BEGIN:VTIMEZONE
TZID:Europe/London
BEGIN:DAYLIGHT
TZOFFSETFROM:+0000
TZOFFSETTO:+0100
TZNAME:BST
DTSTART:20240331T010000
END:DAYLIGHT
BEGIN:STANDARD
TZOFFSETFROM:+0100
TZOFFSETTO:+0000
TZNAME:GMT
DTSTART:20241027T010000
END:STANDARD
BEGIN:DAYLIGHT
TZOFFSETFROM:+0000
TZOFFSETTO:+0100
TZNAME:BST
DTSTART:20250330T010000
END:DAYLIGHT
BEGIN:STANDARD
TZOFFSETFROM:+0100
TZOFFSETTO:+0000
TZNAME:GMT
DTSTART:20251026T010000
END:STANDARD
BEGIN:DAYLIGHT
TZOFFSETFROM:+0000
TZOFFSETTO:+0100
TZNAME:BST
DTSTART:20260329T010000
END:DAYLIGHT
BEGIN:STANDARD
TZOFFSETFROM:+0100
TZOFFSETTO:+0000
TZNAME:GMT
DTSTART:20261025T010000
END:STANDARD
END:VTIMEZONE
BEGIN:VEVENT
DTSTART;TZID=Europe/London:20251105T113000
DTEND;TZID=Europe/London:20251105T123000
DTSTAMP:20260424T174703
CREATED:20251024T120206Z
LAST-MODIFIED:20251024T120716Z
UID:10005684-1762342200-1762345800@putney.news
SUMMARY:Monet: A One-Man Show
DESCRIPTION:The Arts Society SW London presents an acclaimed one-man show from the 2025 Edinburgh Festival.  \nClaude Monet is often hailed as the Founder of Impressionism. This captivating solo performance examines the complex inner thoughts of the man behind the paintings brought to life by actor Stephen Smith. The audience joins an aged Monet in his studio at Giverny suffering from unsuccessful cataract surgery and burdened with a daunting commission to create his world-famous Water Lilies. W \nith innovative multi-media projection and sound design Monet takes you on an intimate journey through his extraordinary life. You will discover his candid thoughts on fellow Impressionists insights into his ground-breaking artistic techniques the fascinating development of the Impressionist movement and controversial details of his private life.  \nPerformance duration 55 minutes.  \nTickets: Adults £15 Students up to 25 years old £7.50 plus 50p booking fee available through Ticketsource. Open to both members and non-members of The Arts Society SW London. Venue: Putney Arts Theatre Ravenna Road SW15 6AW. For tickets and more information visit https://www.theartssocietyswlondon.org.uk
URL:https://putney.news/event/monet-a-one-man-show/
LOCATION:Putney Arts Theatre\, Ravenna Road\, Putney\, SW15 6AW
CATEGORIES:Theatre
ATTACH;FMTTYPE=image/png:https://putney.news/wp-content/uploads/2025/10/Montage_of_Monet.png
END:VEVENT
END:VCALENDAR