BEGIN:VCALENDAR
VERSION:2.0
PRODID:-//Putney.news - ECPv6.15.20//NONSGML v1.0//EN
CALSCALE:GREGORIAN
METHOD:PUBLISH
X-ORIGINAL-URL:https://putney.news
X-WR-CALDESC:Events for Putney.news
REFRESH-INTERVAL;VALUE=DURATION:PT1H
X-Robots-Tag:noindex
X-PUBLISHED-TTL:PT1H
BEGIN:VTIMEZONE
TZID:Europe/London
BEGIN:DAYLIGHT
TZOFFSETFROM:+0000
TZOFFSETTO:+0100
TZNAME:BST
DTSTART:20240331T010000
END:DAYLIGHT
BEGIN:STANDARD
TZOFFSETFROM:+0100
TZOFFSETTO:+0000
TZNAME:GMT
DTSTART:20241027T010000
END:STANDARD
BEGIN:DAYLIGHT
TZOFFSETFROM:+0000
TZOFFSETTO:+0100
TZNAME:BST
DTSTART:20250330T010000
END:DAYLIGHT
BEGIN:STANDARD
TZOFFSETFROM:+0100
TZOFFSETTO:+0000
TZNAME:GMT
DTSTART:20251026T010000
END:STANDARD
BEGIN:DAYLIGHT
TZOFFSETFROM:+0000
TZOFFSETTO:+0100
TZNAME:BST
DTSTART:20260329T010000
END:DAYLIGHT
BEGIN:STANDARD
TZOFFSETFROM:+0100
TZOFFSETTO:+0000
TZNAME:GMT
DTSTART:20261025T010000
END:STANDARD
END:VTIMEZONE
BEGIN:VEVENT
DTSTART;TZID=Europe/London:20250503T194500
DTEND;TZID=Europe/London:20250503T194500
DTSTAMP:20260421T215151
CREATED:20250422T092657Z
LAST-MODIFIED:20250422T092657Z
UID:10001771-1746301500-1746301500@putney.news
SUMMARY:Half Moon Music - Gutter Brothers
DESCRIPTION:The Gutter Brothers emerged in the late 1980’s as a busking band based in London\, regulars on the Covent Garden street scene. \n\nThey released their first album ‘Isometric Boogie’ in 1988\, going on to release two more albums\, and writing the soundtrack music to ‘Fools & Horses’ Christmas special ‘Miami Twice’ in 1991. The band toured constantly in the UK\, Europe and the US\, sharing stages with the likes of Dr Feelgood\, Desmond Dekker\, Albert Lee\, Steve Harley\, Debbie Harry and Jools Holland. In 1993 the band split when lead singer Tony returned to live in his native New Orleans. \nThe original 1988 line-up of Tony Green (vocals)\, Steve Turner (bass)\, Jeff Walker (drums) and Chris Cawte (guitar) has reunited for a handful of UK shows on a roughly annual basis since 2003 following the death of founding member Dennis Johnson (tea-chest bass and lyrics). \nIn 2008 the band released ‘El Krusho’\, an album dedicated to Dennis’ memory which featured new songs composed using remaining lyrics written by him. A new recording of previously unreleased songs ‘Mother Primeval’ followed in 2014. \nThe Gutter Brothers return to celebrate more than 30 years of swampy rock ‘n’ roll history with a country style gumbo of great tunes\, rare funk grooves\, a slab of ska and a small pinch of metal to taste. \n\n\nLine Up\n\n\n\nGutter Brothers\n\n\n\n\n\n\n\n18+ after 7pm
URL:https://putney.news/event/half-moon-music-gutter-brothers/
LOCATION:The Half Moon\, 93 Lower Richmond Road\, London\, SW15 1EU\, United Kingdom
CATEGORIES:Music
ATTACH;FMTTYPE=image/png:https://putney.news/wp-content/uploads/2025/04/Screenshot-2025-04-21-100606-AM.png
ORGANIZER;CN="Half Moon":MAILTO:halfmoon@youngs.co.uk
GEO:51.467323;-0.220009
X-APPLE-STRUCTURED-LOCATION;VALUE=URI;X-ADDRESS=The Half Moon 93 Lower Richmond Road London SW15 1EU United Kingdom;X-APPLE-RADIUS=500;X-TITLE=93 Lower Richmond Road:geo:-0.220009,51.467323
END:VEVENT
END:VCALENDAR