BEGIN:VCALENDAR
VERSION:2.0
PRODID:-//Putney.news - ECPv6.15.20//NONSGML v1.0//EN
CALSCALE:GREGORIAN
METHOD:PUBLISH
X-ORIGINAL-URL:https://putney.news
X-WR-CALDESC:Events for Putney.news
REFRESH-INTERVAL;VALUE=DURATION:PT1H
X-Robots-Tag:noindex
X-PUBLISHED-TTL:PT1H
BEGIN:VTIMEZONE
TZID:Europe/London
BEGIN:DAYLIGHT
TZOFFSETFROM:+0000
TZOFFSETTO:+0100
TZNAME:BST
DTSTART:20240331T010000
END:DAYLIGHT
BEGIN:STANDARD
TZOFFSETFROM:+0100
TZOFFSETTO:+0000
TZNAME:GMT
DTSTART:20241027T010000
END:STANDARD
BEGIN:DAYLIGHT
TZOFFSETFROM:+0000
TZOFFSETTO:+0100
TZNAME:BST
DTSTART:20250330T010000
END:DAYLIGHT
BEGIN:STANDARD
TZOFFSETFROM:+0100
TZOFFSETTO:+0000
TZNAME:GMT
DTSTART:20251026T010000
END:STANDARD
BEGIN:DAYLIGHT
TZOFFSETFROM:+0000
TZOFFSETTO:+0100
TZNAME:BST
DTSTART:20260329T010000
END:DAYLIGHT
BEGIN:STANDARD
TZOFFSETFROM:+0100
TZOFFSETTO:+0000
TZNAME:GMT
DTSTART:20261025T010000
END:STANDARD
END:VTIMEZONE
BEGIN:VEVENT
DTSTART;TZID=Europe/London:20251128T150000
DTEND;TZID=Europe/London:20251128T190000
DTSTAMP:20260423T061645
CREATED:20251108T110755Z
LAST-MODIFIED:20251108T131744Z
UID:10005989-1764342000-1764356400@putney.news
SUMMARY:Putney Christmas Lights Switch-On 2025
DESCRIPTION:Celebrate the start of the Christmas season in Putney with the annual Christmas lights switch-on ceremony. Join your neighbors and friends for this beloved community tradition as Putney High Street sparkles to life. \nThe ceremony takes place at 6pm on Friday 28 November\, bringing together local residents\, families\, and businesses to mark the official beginning of the festive period in Putney. This free community event creates a magical atmosphere in the heart of Putney town centre. Compered by the Presenters from Riverside Radio. \nEvent Highlights: \n\nOfficial Christmas lights switch-on at 6pm\nFestive atmosphere throughout Putney town centre\nCommunity celebration marking the start of the Christmas season\nFree admission for all ages\n\nWrap up warm and bring the whole family to this special evening that brings the Putney community together. The illuminated streets will continue to brighten our winter evenings throughout the festive season. \nSchedule:\n\n3pm – Riverside Radio LIVE\n3.10pm – Our Lady of Victories School Choir\n3.30pm – The Roche School Choir\n3.50pm – All Saints School Choir\n4.10pm – Oasis School Choir\n4.30pm – Hotham Community Choir\n4.50pm – Hurlingham School Choir\n5.10pm – Ark Putney Academy\n5.30pm – Putney Stagecoach\n6pm – SWITCH ON\n6.10pm – Group 64 Theatre for Young People\n6.30pm – Lucie Benson School of Dance
URL:https://putney.news/event/putney-christmas-lights-switch-on-2025/
LOCATION:Putney Town Centre\, Putney High Street\, London\, SW15 1\, United Kingdom
CATEGORIES:Fair
ATTACH;FMTTYPE=image/png:https://putney.news/wp-content/uploads/2025/11/christmas-lights.png
GEO:51.4618;-0.216
X-APPLE-STRUCTURED-LOCATION;VALUE=URI;X-ADDRESS=Putney Town Centre Putney High Street London SW15 1 United Kingdom;X-APPLE-RADIUS=500;X-TITLE=Putney High Street:geo:-0.216,51.4618
END:VEVENT
BEGIN:VEVENT
DTSTART;TZID=Europe/London:20251206T160000
DTEND;TZID=Europe/London:20251206T180000
DTSTAMP:20260423T061645
CREATED:20251108T110800Z
LAST-MODIFIED:20251108T131919Z
UID:10005993-1765036800-1765044000@putney.news
SUMMARY:Wandsworth Christmas Lights Switch-On at Southside
DESCRIPTION:Mark your calendar for the Wandsworth Christmas lights switch-on ceremony taking place at Southside shopping centre on Saturday 6 December. This festive community celebration officially welcomes the Christmas season to Wandsworth. \nThe Southside piazza provides the perfect backdrop for this annual tradition\, with the official lights switch-on scheduled for 5pm. Join neighbors\, families\, and shoppers for an evening of festive celebration in the heart of Wandsworth. \nEvent Details: \n\nDate: Saturday 6 December 2025\nLocation: Southside piazza\, Wandsworth\nOfficial lights switch-on: 5:00pm\nFree admission for all\n\nWhat to Expect: \n\nCommunity gathering at Southside shopping centre\nFestive atmosphere and Christmas spirit\nOfficial ceremony switching on the Christmas lights\nOpportunity to start or continue your Christmas shopping\nPerfect family-friendly event\n\nThe Southside location makes this event particularly convenient\, with plenty of shops\, cafes\, and restaurants nearby. Arrive early to find a good viewing spot for the ceremony\, and consider combining your visit with some Christmas shopping at the centre’s many retailers. \nThis free event is organized by Wandsworth Council as part of the borough’s Christmas celebrations. Bring the whole family to share in the excitement as Wandsworth lights up for the festive season.
URL:https://putney.news/event/wandsworth-christmas-lights-switch-on-at-southside/
LOCATION:Southside Piazza Wandsworth\, Wandsworth High Street\, London\, SW18 2PP\, United Kingdom
CATEGORIES:Fair
ATTACH;FMTTYPE=image/png:https://putney.news/wp-content/uploads/2025/11/christmas-lights.png
GEO:51.4572;-0.1913
X-APPLE-STRUCTURED-LOCATION;VALUE=URI;X-ADDRESS=Southside Piazza Wandsworth Wandsworth High Street London SW18 2PP United Kingdom;X-APPLE-RADIUS=500;X-TITLE=Wandsworth High Street:geo:-0.1913,51.4572
END:VEVENT
END:VCALENDAR