BEGIN:VCALENDAR
VERSION:2.0
PRODID:-//Putney.news - ECPv6.15.20//NONSGML v1.0//EN
CALSCALE:GREGORIAN
METHOD:PUBLISH
X-ORIGINAL-URL:https://putney.news
X-WR-CALDESC:Events for Putney.news
REFRESH-INTERVAL;VALUE=DURATION:PT1H
X-Robots-Tag:noindex
X-PUBLISHED-TTL:PT1H
BEGIN:VTIMEZONE
TZID:Europe/London
BEGIN:DAYLIGHT
TZOFFSETFROM:+0000
TZOFFSETTO:+0100
TZNAME:BST
DTSTART:20240331T010000
END:DAYLIGHT
BEGIN:STANDARD
TZOFFSETFROM:+0100
TZOFFSETTO:+0000
TZNAME:GMT
DTSTART:20241027T010000
END:STANDARD
BEGIN:DAYLIGHT
TZOFFSETFROM:+0000
TZOFFSETTO:+0100
TZNAME:BST
DTSTART:20250330T010000
END:DAYLIGHT
BEGIN:STANDARD
TZOFFSETFROM:+0100
TZOFFSETTO:+0000
TZNAME:GMT
DTSTART:20251026T010000
END:STANDARD
BEGIN:DAYLIGHT
TZOFFSETFROM:+0000
TZOFFSETTO:+0100
TZNAME:BST
DTSTART:20260329T010000
END:DAYLIGHT
BEGIN:STANDARD
TZOFFSETFROM:+0100
TZOFFSETTO:+0000
TZNAME:GMT
DTSTART:20261025T010000
END:STANDARD
END:VTIMEZONE
BEGIN:VEVENT
DTSTART;TZID=Europe/London:20251031T220000
DTEND;TZID=Europe/London:20251101T020000
DTSTAMP:20260420T151921
CREATED:20251030T161256Z
LAST-MODIFIED:20251030T161256Z
UID:10005976-1761948000-1761962400@putney.news
SUMMARY:Halloween Party with DJ Billy Idle at Putney Pies
DESCRIPTION:Get ready for a frightfully fun Halloween night at Putney Pies featuring The Vault! DJ Billy Idle will be spinning tracks from 10pm until 2am\, creating the perfect atmosphere for Halloween celebrations in Putney. \nEntry is completely free if you arrive before 10pm\, making this an excellent choice for early birds. From 10pm onwards\, entry is £10 per person. There’s no formal dress code required – just bring your Halloween spirit and you’re good to go\, though fancy dress is always welcome! \nThis Halloween party combines great music\, a friendly atmosphere\, and the unique setting of Putney Pies and The Vault. Whether you’re looking to dance the night away or enjoy drinks with friends in costume\, this event promises a memorable Halloween experience in the heart of Putney. \nPerfect for groups of friends\, couples\, or anyone looking to celebrate Halloween 2025 with quality music and a buzzing atmosphere. The venue’s relaxed approach means you can enjoy the night however you like – dress up elaborately or keep it casual.
URL:https://putney.news/event/halloween-party-with-dj-billy-idle-at-putney-pies/
LOCATION:Putney Pies\, Putney High Street\, London\, SW15\, United Kingdom
CATEGORIES:Music
ATTACH;FMTTYPE=image/png:https://putney.news/wp-content/uploads/2025/10/music-VN5oqw.png
GEO:51.4619;-0.2165
X-APPLE-STRUCTURED-LOCATION;VALUE=URI;X-ADDRESS=Putney Pies Putney High Street London SW15 United Kingdom;X-APPLE-RADIUS=500;X-TITLE=Putney High Street:geo:-0.2165,51.4619
END:VEVENT
END:VCALENDAR