BEGIN:VCALENDAR
VERSION:2.0
PRODID:-//Putney.news - ECPv6.15.20//NONSGML v1.0//EN
CALSCALE:GREGORIAN
METHOD:PUBLISH
X-ORIGINAL-URL:https://putney.news
X-WR-CALDESC:Events for Putney.news
REFRESH-INTERVAL;VALUE=DURATION:PT1H
X-Robots-Tag:noindex
X-PUBLISHED-TTL:PT1H
BEGIN:VTIMEZONE
TZID:Europe/London
BEGIN:DAYLIGHT
TZOFFSETFROM:+0000
TZOFFSETTO:+0100
TZNAME:BST
DTSTART:20240331T010000
END:DAYLIGHT
BEGIN:STANDARD
TZOFFSETFROM:+0100
TZOFFSETTO:+0000
TZNAME:GMT
DTSTART:20241027T010000
END:STANDARD
BEGIN:DAYLIGHT
TZOFFSETFROM:+0000
TZOFFSETTO:+0100
TZNAME:BST
DTSTART:20250330T010000
END:DAYLIGHT
BEGIN:STANDARD
TZOFFSETFROM:+0100
TZOFFSETTO:+0000
TZNAME:GMT
DTSTART:20251026T010000
END:STANDARD
BEGIN:DAYLIGHT
TZOFFSETFROM:+0000
TZOFFSETTO:+0100
TZNAME:BST
DTSTART:20260329T010000
END:DAYLIGHT
BEGIN:STANDARD
TZOFFSETFROM:+0100
TZOFFSETTO:+0000
TZNAME:GMT
DTSTART:20261025T010000
END:STANDARD
END:VTIMEZONE
BEGIN:VEVENT
DTSTART;TZID=Europe/London:20250914T150000
DTEND;TZID=Europe/London:20250914T170000
DTSTAMP:20260425T040536
CREATED:20250912T170048Z
LAST-MODIFIED:20250912T170048Z
UID:10005381-1757862000-1757869200@putney.news
SUMMARY:Mayor of Wandsworth's Tennis Tournament
DESCRIPTION:Mayor Jeremy has organised a friendly tennis tournament at the delightful Southfields Lawn Tennis Club in support of his charities. All levels of tennis ability are welcome. Players should arrive at 2:45pm for a prompt start. Tea and cake will be provided to players and spectators alike! A raffle will also be held. Players will need to bring their own tennis racket.
URL:https://putney.news/event/mayor-of-wandsworths-tennis-tournament/
LOCATION:Southfields Lawn Tennis Club\, Gressenhall Road\, London\, SW18 1PQ\, United Kingdom
CATEGORIES:Sports
ATTACH;FMTTYPE=image/png:https://putney.news/wp-content/uploads/2025/09/sports-9S3b8U.png
ORGANIZER;CN="Mayor of Wandsworth":MAILTO:mayors.office@wandsworth.gov.uk
GEO:51.45262;-0.2073493
X-APPLE-STRUCTURED-LOCATION;VALUE=URI;X-ADDRESS=Southfields Lawn Tennis Club Gressenhall Road London SW18 1PQ United Kingdom;X-APPLE-RADIUS=500;X-TITLE=Gressenhall Road:geo:-0.2073493,51.45262
END:VEVENT
BEGIN:VEVENT
DTSTART;TZID=Europe/London:20250910T190000
DTEND;TZID=Europe/London:20250910T220000
DTSTAMP:20260425T040536
CREATED:20250910T115642Z
LAST-MODIFIED:20250910T115836Z
UID:10005372-1757530800-1757541600@putney.news
SUMMARY:The Big Comedy Night in aid of Great Ormond Street Hospital
DESCRIPTION:Every Wednesday\, Comedy Incorporated take over The Railway stage for a night of belly laughs\, questionable impressions\, and the occasional did-they-really-just-say-that moment. \nThis time\, we’re going bigger and bolder with a special guest headliner bringing the kind of comedy that could make even your grumpy mate crack a smile. \nNormally\, our comedy nights are free\, but this time every penny from your ticket goes straight to Great Ormond Street Hospital. Grab your mates\, come for the laughs\, stay for the food. Age restriction: 18+ (ID may be required).
URL:https://putney.news/event/the-big-comedy-night-in-aid-of-great-ormond-street-hospital/
LOCATION:The Railway Pub Putney\, 202 Upper Richmond Road\, London\, SW15 6TD\, United Kingdom
CATEGORIES:Comedy
ATTACH;FMTTYPE=image/png:https://putney.news/wp-content/uploads/2025/09/gosh-comedy-night.png
GEO:51.461044;-0.218452
X-APPLE-STRUCTURED-LOCATION;VALUE=URI;X-ADDRESS=The Railway Pub Putney 202 Upper Richmond Road London SW15 6TD United Kingdom;X-APPLE-RADIUS=500;X-TITLE=202 Upper Richmond Road:geo:-0.218452,51.461044
END:VEVENT
END:VCALENDAR