BEGIN:VCALENDAR
VERSION:2.0
PRODID:-//Putney.news - ECPv6.15.20//NONSGML v1.0//EN
CALSCALE:GREGORIAN
METHOD:PUBLISH
X-WR-CALNAME:Putney.news
X-ORIGINAL-URL:https://putney.news
X-WR-CALDESC:Events for Putney.news
REFRESH-INTERVAL;VALUE=DURATION:PT1H
X-Robots-Tag:noindex
X-PUBLISHED-TTL:PT1H
BEGIN:VTIMEZONE
TZID:Europe/London
BEGIN:DAYLIGHT
TZOFFSETFROM:+0000
TZOFFSETTO:+0100
TZNAME:BST
DTSTART:20250330T010000
END:DAYLIGHT
BEGIN:STANDARD
TZOFFSETFROM:+0100
TZOFFSETTO:+0000
TZNAME:GMT
DTSTART:20251026T010000
END:STANDARD
BEGIN:DAYLIGHT
TZOFFSETFROM:+0000
TZOFFSETTO:+0100
TZNAME:BST
DTSTART:20260329T010000
END:DAYLIGHT
BEGIN:STANDARD
TZOFFSETFROM:+0100
TZOFFSETTO:+0000
TZNAME:GMT
DTSTART:20261025T010000
END:STANDARD
BEGIN:DAYLIGHT
TZOFFSETFROM:+0000
TZOFFSETTO:+0100
TZNAME:BST
DTSTART:20270328T010000
END:DAYLIGHT
BEGIN:STANDARD
TZOFFSETFROM:+0100
TZOFFSETTO:+0000
TZNAME:GMT
DTSTART:20271031T010000
END:STANDARD
END:VTIMEZONE
BEGIN:VEVENT
DTSTART;TZID=Europe/London:20260416T180000
DTEND;TZID=Europe/London:20260416T193000
DTSTAMP:20260423T032040
CREATED:20260326T075743Z
LAST-MODIFIED:20260326T075743Z
UID:10007559-1776362400-1776367800@putney.news
SUMMARY:Forgotten But Not  Lost - Janet Vaughan
DESCRIPTION:How a great medical pioneer once lost from the collective public memory\, was rediscovered.\nThe Friends of Putney Library are pleased to present a talk by Sheena Evans\, independent scholar and writer\, on her biography of Janet Vaughan. Having seen Vaughan being interviewed on television in 1984 as the scientist – and campaigner for social justice – among six ‘Women of Our Century’\, she determined to place on record the fascinating and often exciting story of this woman\, described by one eminent contemporary as ‘unquestionably one of the great figures of medicine of this century’.\nhttps://en.wikipedia.org/wiki/Janet_Vaughan\nThis free talk will be held in Putney Library’s Meeting Hall on Thursday 19th April. Refreshments from 6.00pm and the talk will run from 6.30pm to 7.30pm. Cash donations gratefully accepted.
URL:https://putney.news/event/forgotten-but-not-lost-janet-vaughan/
LOCATION:Putney Library Hall\, 5-7 Disraeli Road\, Putney\, Wandsworth\, United Kingdom
CATEGORIES:Talk
ATTACH;FMTTYPE=image/png:https://putney.news/wp-content/uploads/2026/03/Janet-Vaughan-Talk.png
ORGANIZER;CN="Friends of Putney Library":MAILTO:charlene.coleman@gll.org
GEO:51.461662;-0.216628
X-APPLE-STRUCTURED-LOCATION;VALUE=URI;X-ADDRESS=Putney Library Hall 5-7 Disraeli Road Putney Wandsworth United Kingdom;X-APPLE-RADIUS=500;X-TITLE=5-7 Disraeli Road\, Putney:geo:-0.216628,51.461662
END:VEVENT
BEGIN:VEVENT
DTSTART;TZID=Europe/London:20260426T170000
DTEND;TZID=Europe/London:20260426T183000
DTSTAMP:20260423T032040
CREATED:20260224T140421Z
LAST-MODIFIED:20260224T140821Z
UID:10007549-1777222800-1777228200@putney.news
SUMMARY:Riverside Studios at 50: Goodness Gracious Me in Conversation
DESCRIPTION:A landmark reunion at the place where it all began. Goodness Gracious Me in Conversation brings together the original stars of one of British television’s most celebrated and culturally significant comedy shows\, at Riverside Studios\, Hammersmith\, on Sunday 26 April 2026 at 5pm. \nNina Wadia\, Sanjeev Bhaskar OBE and Kulvinder Ghir are joined by BBC commissioner and producer Jon Plowman CBE — whose credits include Smith & Jones\, French & Saunders\, and Absolutely Fabulous — to look back on the creation\, production\, and enduring cultural impact of their now-legendary series. \nThe story of Goodness Gracious Me began right here at Riverside Studios in 1995\, when it premiered as a live show called Peter Sellers is Dead. From those Riverside roots\, it went on to conquer BBC Radio and then BBC Television as a hilarious and groundbreaking sketch show featuring a British Asian cast\, challenging and reshaping perceptions of British identity along the way. It remains one of the most important comedy series in UK broadcasting history. \nThis is a genuinely unique reunion — a rare opportunity to hear directly from the creative team behind a show that changed British comedy and culture. The event is part of Riverside Studios’ 50th anniversary season celebrating the extraordinary talent that has found a home at the venue since 1976. \nEvery ticket purchased supports Riverside Studios’ continued mission to champion emerging artists and make the arts accessible to all. \nWhen: Sunday 26 April 2026\, 5:00pm–6:30pm (approx.)\nWhere: Riverside Studios\, 101 Queen Caroline Street\, Hammersmith\, London W6 9BN\nTickets: Available at riversidestudios.co.uk
URL:https://putney.news/event/riverside-studios-at-50-goodness-gracious-me-in-conversation/
LOCATION:Riverside Studios\, 101 Queen Caroline Street\, Hammersmith\, W6 9BN\, United Kingdom
CATEGORIES:Talk
ATTACH;FMTTYPE=image/webp:https://putney.news/wp-content/uploads/2026/02/goodness-gracious-me.webp
GEO:51.4915;-0.2243
X-APPLE-STRUCTURED-LOCATION;VALUE=URI;X-ADDRESS=Riverside Studios 101 Queen Caroline Street Hammersmith W6 9BN United Kingdom;X-APPLE-RADIUS=500;X-TITLE=101 Queen Caroline Street:geo:-0.2243,51.4915
END:VEVENT
BEGIN:VEVENT
DTSTART;TZID=Europe/London:20260428T190000
DTEND;TZID=Europe/London:20260428T203000
DTSTAMP:20260423T032040
CREATED:20260413T123938Z
LAST-MODIFIED:20260413T123938Z
UID:10007931-1777402800-1777408200@putney.news
SUMMARY:People's Emergency Briefing in Putney
DESCRIPTION:Introduced by Chris Packham\, this 45-minute film brings together key clips from the 3-hour-long National Emergency Briefing shown to MPs and others. The screening will be followed by discussion of the film and what we can all do\, especially at the local level. Hosted by XR Wandsworth\, Greener Jobs Alliance and Greenpeace South West London. The local MP and local councillors have been invited.
URL:https://putney.news/event/peoples-emergency-briefing-in-putney/
LOCATION:St Mary’s Church\, Putney\, Putney High Street\, London\, England\, SW15 1SN\, United Kingdom
CATEGORIES:Talk
ATTACH;FMTTYPE=image/jpeg:https://putney.news/wp-content/uploads/2026/04/Putney-PEB.jpg
ORGANIZER;CN="XR Wandsworth":MAILTO:xrwandsworth@gmail.com
END:VEVENT
BEGIN:VEVENT
DTSTART;TZID=Europe/London:20260628T160000
DTEND;TZID=Europe/London:20260628T173000
DTSTAMP:20260423T032040
CREATED:20260224T140423Z
LAST-MODIFIED:20260224T140648Z
UID:10007550-1782662400-1782667800@putney.news
SUMMARY:Riverside Studios at 50: Gyles Brandreth – Up Memory Lane
DESCRIPTION:One of Britain’s most irrepressible storytellers comes home. Gyles Brandreth – Up Memory Lane is a wonderfully personal and entertaining afternoon at Riverside Studios\, Hammersmith\, on Sunday 28 June 2026 at 4pm\, closing out the venue’s extraordinary 50th anniversary celebration season. \nGyles Brandreth — broadcaster\, author\, former MP\, actor\, and one of the nation’s most cherished raconteurs — has appeared in no fewer than three productions at Riverside Studios over the years. Now he returns for a very personal trip up memory lane\, sharing hilarious tales from the best and worst moments of his unlikely life\, including backstage stories from his time at the venue. \nJoining him on stage is his friend and collaborator Harriet Jaine\, producer of his chart-topping\, multi-million-download podcast\, who will help guide the afternoon with warmth and wit. Together they promise an occasion filled with laughter\, nostalgia\, and the kind of unexpected revelations that only a life as eventful as Gyles Brandreth’s can produce. \nKnown to millions from Just a Minute\, Celebrity Gogglebox\, the Rosebud podcast and decades of television\, radio and stage work\, Brandreth brings a unique combination of erudition\, self-deprecation and showmanship to everything he does. This promises to be a genuinely unmissable afternoon for fans of great storytelling. \nThe event is part of Riverside Studios’ 50th anniversary season\, and every ticket purchased helps support the venue’s mission to keep the arts inclusive and accessible for emerging creatives and future generations. \nWhen: Sunday 28 June 2026\, 4:00pm–5:30pm (approx.)\nWhere: Riverside Studios\, 101 Queen Caroline Street\, Hammersmith\, London W6 9BN\nTickets: Available at riversidestudios.co.uk
URL:https://putney.news/event/riverside-studios-at-50-gyles-brandreth-up-memory-lane/
LOCATION:Riverside Studios\, 101 Queen Caroline Street\, Hammersmith\, W6 9BN\, United Kingdom
CATEGORIES:Talk
ATTACH;FMTTYPE=image/webp:https://putney.news/wp-content/uploads/2026/02/brandreth-riverside.webp
GEO:51.4915;-0.2243
X-APPLE-STRUCTURED-LOCATION;VALUE=URI;X-ADDRESS=Riverside Studios 101 Queen Caroline Street Hammersmith W6 9BN United Kingdom;X-APPLE-RADIUS=500;X-TITLE=101 Queen Caroline Street:geo:-0.2243,51.4915
END:VEVENT
END:VCALENDAR