BEGIN:VCALENDAR
VERSION:2.0
PRODID:-//Putney.news - ECPv6.15.20//NONSGML v1.0//EN
CALSCALE:GREGORIAN
METHOD:PUBLISH
X-WR-CALNAME:Putney.news
X-ORIGINAL-URL:https://putney.news
X-WR-CALDESC:Events for Putney.news
REFRESH-INTERVAL;VALUE=DURATION:PT1H
X-Robots-Tag:noindex
X-PUBLISHED-TTL:PT1H
BEGIN:VTIMEZONE
TZID:Europe/London
BEGIN:DAYLIGHT
TZOFFSETFROM:+0000
TZOFFSETTO:+0100
TZNAME:BST
DTSTART:20250330T010000
END:DAYLIGHT
BEGIN:STANDARD
TZOFFSETFROM:+0100
TZOFFSETTO:+0000
TZNAME:GMT
DTSTART:20251026T010000
END:STANDARD
BEGIN:DAYLIGHT
TZOFFSETFROM:+0000
TZOFFSETTO:+0100
TZNAME:BST
DTSTART:20260329T010000
END:DAYLIGHT
BEGIN:STANDARD
TZOFFSETFROM:+0100
TZOFFSETTO:+0000
TZNAME:GMT
DTSTART:20261025T010000
END:STANDARD
BEGIN:DAYLIGHT
TZOFFSETFROM:+0000
TZOFFSETTO:+0100
TZNAME:BST
DTSTART:20270328T010000
END:DAYLIGHT
BEGIN:STANDARD
TZOFFSETFROM:+0100
TZOFFSETTO:+0000
TZNAME:GMT
DTSTART:20271031T010000
END:STANDARD
END:VTIMEZONE
BEGIN:VEVENT
DTSTART;TZID=Europe/London:20260423T090000
DTEND;TZID=Europe/London:20260423T160000
DTSTAMP:20260423T020010
CREATED:20260326T075318Z
LAST-MODIFIED:20260326T080145Z
UID:10007575-1776934800-1776960000@putney.news
SUMMARY:Art in Bloom
DESCRIPTION:St Margaret’s Church to hold Art in Bloom\, an exciting art exhibition celebrating Putney’s creativity. \nSt Margaret’s Church is proud to announce the launch of Art in Bloom\, a unique art exhibition marking the arrival of spring by celebrating Putney’s many professional and amateur creators. Art in Bloom officially opens its doors on April 11th at 5:00 PM with a reception to which all are welcome.\n.\nArt in Bloom features the work of renowned local professionals\, including the expressive steel and clay sculptures of Gil Whyman and the acclaimed paintings of Ann Hawksley\, Charles Penny and Sally Scott. Gil will be doing a live demonstration of clay sculpting. \nIn a vibrant display of local spirit\, these professional pieces will sit alongside a diverse collection of artworks contributed by the Putney and St Margaret’s community\, ranging from paintings to mixed media.and craft of all kinds. \nThis exhibition is a testament to the creative heartbeat of Putney. By placing the work of established professionals alongside the hidden talents of St Margaret’s own congregation and neighbours\, the church is creating a living gallery for everyone. \nArt in Bloom details:\nOpening reception April 11th\, 5:00 PM\, show runs to 9:00 PM\nExhibition continues: April 12th 11am to 4pm\nLocation: Worth Parish Centre\, St Margaret’s Church\, Putney Park Lane\, SW155HU\nFree entry\nMembers of the press and the public are invited to attend the launch to meet the artists and experience the breadth of Putney’s artistic community. \nAbout St Margaret’s Church:\nSt Margaret’s is a lively parish church in the heart of Putney\, dedicated to serving the spiritual and cultural needs of the local community through worship\, music\, and the arts.\nwww.stmargaretsputney.org/ \nMedia Contact\nJonathan Crane\n07718 893 483\ncranejonathan177@gmail.com \nArt in Bloom is sponsored by\nWinkworth’s Putney office www.winkworth.co.uk/estate-agents/putney\nAnd\nJackson’s Art Supplies www.jacksonsart.com
URL:https://putney.news/event/art-in-bloom/2026-04-23/
LOCATION:St Margaret’s\, Putney\, Putney Park Lane\, London\, UK\, Putney Park Lane\, London\, England\, SW15 5HU\, United Kingdom
ATTACH;FMTTYPE=image/jpeg:https://putney.news/wp-content/uploads/2026/03/Art-in-Bloom-scaled.jpg
ORGANIZER;CN="Jonathan":MAILTO:cranejonathan177@gmail.com
END:VEVENT
BEGIN:VEVENT
DTSTART;TZID=Europe/London:20260423T140000
DTEND;TZID=Europe/London:20260423T160000
DTSTAMP:20260423T020010
CREATED:20251108T114241Z
LAST-MODIFIED:20251108T114241Z
UID:10006299-1776952800-1776960000@putney.news
SUMMARY:Knit and Natter
DESCRIPTION:Join Putney Library’s Knit and Natter group every Thursday afternoon from 2-4pm. This popular weekly gathering brings together knitters\, crocheters\, and textile craft enthusiasts for two hours of creative activity and friendly conversation in a relaxed social setting. \nWhether you’re an experienced knitter working on intricate patterns\, a beginner just learning to cast on\, or somewhere in between\, you’ll find a warm welcome here. The group is self-directed\, meaning members bring their own projects and work at their own pace while enjoying the companionship of fellow crafters. \nKnit and Natter offers numerous benefits beyond the crafts themselves: reduce stress and anxiety through the meditative rhythm of needlework\, maintain mental agility and fine motor skills\, share patterns\, techniques\, and creative inspiration\, make friends and combat social isolation\, and contribute to community charity projects when the group organizes them. \nThe Thursday afternoon timing makes this an ideal mid-week activity\, providing a peaceful interlude in busy schedules. Many members appreciate the dedicated time to focus on their craft projects while engaging in the kind of easy\, flowing conversation that gives the group its name. \nNo registration required – simply drop in with your knitting\, crochet\, or other textile project. Bring your own supplies\, patterns\, and works-in-progress. Beginners are very welcome; experienced members are always happy to share tips and help troubleshoot. \nFor more information about Knit and Natter and other social activities at Putney Library\, contact 020 8780 3085 or email Putney.Library@GLL.org.
URL:https://putney.news/event/knit-and-natter/2026-04-23/
LOCATION:Putney Library\, 5-7 Disraeli Road\, London\, England\, SW15 2DR\, United Kingdom
CATEGORIES:Community
ATTACH;FMTTYPE=image/png:https://putney.news/wp-content/uploads/2025/09/community-aiQrgw.png
ORGANIZER;CN="Friends of Putney Library":MAILTO:charlene.coleman@gll.org
END:VEVENT
BEGIN:VEVENT
DTSTART;TZID=Europe/London:20260423T200000
DTEND;TZID=Europe/London:20260423T220000
DTSTAMP:20260423T020010
CREATED:20251024T103245Z
LAST-MODIFIED:20251024T103245Z
UID:10005441-1776974400-1776981600@putney.news
SUMMARY:Quiz Night at The Arab Boy
DESCRIPTION:Every Thursday at 8pm\, The Arab Boy comes alive with our weekly Quiz Night – a warm\, friendly evening where laughs flow as easily as the drinks. Whether you’re trivia whiz or just in it for the fun\, everyone’s welcome!\nThere’s a £40 quiz voucher waiting for the winning team\, a bottle of house wine for the brave souls who finish second-to-last\, and of course\, our rolling jackpot that keeps things exciting week after week.\nSo gather your mates\, settle in with a pint\, and join us for some good-natured competition and plenty of laughs\, It’s the perfect way to kick off the weekend early – we can’t wait to see you at The Arab Boy!
URL:https://putney.news/event/quiz-night-at-the-arab-boy/2026-04-23/
LOCATION:The Arab Boy\, 289 Upper Richmond Road\, London\, England\, England\, SW156SP\, United Kingdom
CATEGORIES:Quiz Night
ATTACH;FMTTYPE=image/png:https://putney.news/wp-content/uploads/2025/10/TAB.png
ORGANIZER;CN="The Arab Boy":MAILTO:hello@thearabboyputney.com
GEO:51.4627326;-0.2266725
X-APPLE-STRUCTURED-LOCATION;VALUE=URI;X-ADDRESS=The Arab Boy 289 Upper Richmond Road London England England SW156SP United Kingdom;X-APPLE-RADIUS=500;X-TITLE=289 Upper Richmond Road:geo:-0.2266725,51.4627326
END:VEVENT
END:VCALENDAR