BEGIN:VCALENDAR
VERSION:2.0
PRODID:-//Putney.news - ECPv6.15.20//NONSGML v1.0//EN
CALSCALE:GREGORIAN
METHOD:PUBLISH
X-WR-CALNAME:Putney.news
X-ORIGINAL-URL:https://putney.news
X-WR-CALDESC:Events for Putney.news
REFRESH-INTERVAL;VALUE=DURATION:PT1H
X-Robots-Tag:noindex
X-PUBLISHED-TTL:PT1H
BEGIN:VTIMEZONE
TZID:Europe/London
BEGIN:DAYLIGHT
TZOFFSETFROM:+0000
TZOFFSETTO:+0100
TZNAME:BST
DTSTART:20250330T010000
END:DAYLIGHT
BEGIN:STANDARD
TZOFFSETFROM:+0100
TZOFFSETTO:+0000
TZNAME:GMT
DTSTART:20251026T010000
END:STANDARD
BEGIN:DAYLIGHT
TZOFFSETFROM:+0000
TZOFFSETTO:+0100
TZNAME:BST
DTSTART:20260329T010000
END:DAYLIGHT
BEGIN:STANDARD
TZOFFSETFROM:+0100
TZOFFSETTO:+0000
TZNAME:GMT
DTSTART:20261025T010000
END:STANDARD
BEGIN:DAYLIGHT
TZOFFSETFROM:+0000
TZOFFSETTO:+0100
TZNAME:BST
DTSTART:20270328T010000
END:DAYLIGHT
BEGIN:STANDARD
TZOFFSETFROM:+0100
TZOFFSETTO:+0000
TZNAME:GMT
DTSTART:20271031T010000
END:STANDARD
END:VTIMEZONE
BEGIN:VTIMEZONE
TZID:UTC
BEGIN:STANDARD
TZOFFSETFROM:+0000
TZOFFSETTO:+0000
TZNAME:UTC
DTSTART:20250101T000000
END:STANDARD
END:VTIMEZONE
BEGIN:VEVENT
DTSTART;TZID=Europe/London:20260422T090000
DTEND;TZID=Europe/London:20260422T160000
DTSTAMP:20260422T093652
CREATED:20260326T075318Z
LAST-MODIFIED:20260326T080145Z
UID:10007574-1776848400-1776873600@putney.news
SUMMARY:Art in Bloom
DESCRIPTION:St Margaret’s Church to hold Art in Bloom\, an exciting art exhibition celebrating Putney’s creativity. \nSt Margaret’s Church is proud to announce the launch of Art in Bloom\, a unique art exhibition marking the arrival of spring by celebrating Putney’s many professional and amateur creators. Art in Bloom officially opens its doors on April 11th at 5:00 PM with a reception to which all are welcome.\n.\nArt in Bloom features the work of renowned local professionals\, including the expressive steel and clay sculptures of Gil Whyman and the acclaimed paintings of Ann Hawksley\, Charles Penny and Sally Scott. Gil will be doing a live demonstration of clay sculpting. \nIn a vibrant display of local spirit\, these professional pieces will sit alongside a diverse collection of artworks contributed by the Putney and St Margaret’s community\, ranging from paintings to mixed media.and craft of all kinds. \nThis exhibition is a testament to the creative heartbeat of Putney. By placing the work of established professionals alongside the hidden talents of St Margaret’s own congregation and neighbours\, the church is creating a living gallery for everyone. \nArt in Bloom details:\nOpening reception April 11th\, 5:00 PM\, show runs to 9:00 PM\nExhibition continues: April 12th 11am to 4pm\nLocation: Worth Parish Centre\, St Margaret’s Church\, Putney Park Lane\, SW155HU\nFree entry\nMembers of the press and the public are invited to attend the launch to meet the artists and experience the breadth of Putney’s artistic community. \nAbout St Margaret’s Church:\nSt Margaret’s is a lively parish church in the heart of Putney\, dedicated to serving the spiritual and cultural needs of the local community through worship\, music\, and the arts.\nwww.stmargaretsputney.org/ \nMedia Contact\nJonathan Crane\n07718 893 483\ncranejonathan177@gmail.com \nArt in Bloom is sponsored by\nWinkworth’s Putney office www.winkworth.co.uk/estate-agents/putney\nAnd\nJackson’s Art Supplies www.jacksonsart.com
URL:https://putney.news/event/art-in-bloom/2026-04-22/
LOCATION:St Margaret’s\, Putney\, Putney Park Lane\, London\, UK\, Putney Park Lane\, London\, England\, SW15 5HU\, United Kingdom
ATTACH;FMTTYPE=image/jpeg:https://putney.news/wp-content/uploads/2026/03/Art-in-Bloom-scaled.jpg
ORGANIZER;CN="Jonathan":MAILTO:cranejonathan177@gmail.com
END:VEVENT
BEGIN:VEVENT
DTSTART;TZID=Europe/London:20260422T103000
DTEND;TZID=Europe/London:20260422T123000
DTSTAMP:20260422T093652
CREATED:20260205T105447Z
LAST-MODIFIED:20260205T105600Z
UID:10007016-1776853800-1776861000@putney.news
SUMMARY:SW15 Women's Network Weekly Coffee Morning
DESCRIPTION:The SW15 Women’s Network invites you to a free weekly coffee morning – a welcoming space for women and families in the Roehampton community. \nEvent Details\nWhen: Every Wednesday \nTime: 10:30 AM – 12:30 PM \nWhere: Alton Arts Hub\, 6 Portswood Place\, SW15 4ED \nWhat to Expect\n\nTake a break and meet new friends\nFind out what’s going on in your community\nUp-to-date information on activities and services for women and families\nFree refreshments\nArts and crafts activities\n\nChildren Welcome\nThis is a family-friendly event – children are very welcome to attend with their parents or carers. \nAbout SW15 Women’s Network\nThe SW15 Women’s Network is a community initiative connecting women and families in the Roehampton and Putney area with local resources\, support services\, and social opportunities. \nSupported by Wandsworth Community Spaces and the Alton Renewal Plan.
URL:https://putney.news/event/sw15-womens-network-weekly-coffee-morning/2026-04-22/
LOCATION:Alton Arts Hub\, 6 portswood place\, London\, SW15 4ED\, United Kingdom
CATEGORIES:Community
ATTACH;FMTTYPE=image/jpeg:https://putney.news/wp-content/uploads/2026/02/sw15women.jpg
ORGANIZER;CN="SW15 Women's Network":MAILTO:SW15WomensNetwork@gmail.com
END:VEVENT
BEGIN:VEVENT
DTSTART;TZID=UTC:20260422T110000
DTEND;TZID=UTC:20260422T150000
DTSTAMP:20260422T093652
CREATED:20240416T090100Z
LAST-MODIFIED:20240416T090100Z
UID:10000133-1776855600-1776870000@putney.news
SUMMARY:Roehampton Community Shed
DESCRIPTION:The Roehampton Community Shed is a weekly group for men and women over 60 to meet and work on practical projects such as furniture upcycling\, and enjoy a cup of tea and a chat.  \nYou don’t have to be an expert\, you can pick up the skills you need and/or offer yours in a friendly environment. \nThe Shed is a drop-in activity which has a £10 registration fee and then costs £1 per session. \nFor more information\, please call Anthony on 020 8877 8940\, email him at shed@ageukwandsworth.org.uk or drop in to the Shed on a Wednesday to see him in person.
URL:https://putney.news/event/roehampton-community-shed/2026-04-22/
LOCATION:Roehampton Community Shed\, 5 Portswood Place\, Roehampton\, SW15 4ED
CATEGORIES:Community
ATTACH;FMTTYPE=image/jpeg:https://putney.news/wp-content/uploads/2024/04/roehampton-shed.jpeg
ORGANIZER;CN="AgeUK Wandsworth":MAILTO:info@ageukwandsworth.org.uk
END:VEVENT
BEGIN:VEVENT
DTSTART;TZID=Europe/London:20260422T150000
DTEND;TZID=Europe/London:20260422T160000
DTSTAMP:20260422T093652
CREATED:20251108T122939Z
LAST-MODIFIED:20251108T122939Z
UID:10006621-1776870000-1776873600@putney.news
SUMMARY:Singing for the Brain
DESCRIPTION:Join Putney Library every Wednesday from 3-4pm for Singing for the Brain\, a specialized weekly program designed for people with dementia and their carers. This evidence-based activity uses music and singing to support cognitive function\, improve wellbeing\, and provide valuable social connection. \nSinging for the Brain sessions are carefully structured to maximize benefits for people living with dementia. Music engages multiple areas of the brain simultaneously\, helping to stimulate memory\, improve mood\, reduce anxiety\, and maintain communication skills. Even when other forms of expression become difficult\, many people with dementia retain the ability to sing and respond to music. \nLed by trained facilitators\, each session includes familiar songs from different eras\, gentle vocal exercises\, rhythm activities\, and social interaction time. The supportive group environment helps both those with dementia and their carers feel less isolated\, while the focus on preserved abilities rather than lost ones promotes dignity and confidence. \nCarers benefit too\, gaining respite through shared musical enjoyment\, connecting with others in similar situations\, learning techniques they can use at home\, and experiencing positive moments with their loved ones. The hour provides a break from care routines while remaining supportive and purposeful. \nNo musical experience or singing ability is required – participation can be as active or passive as feels comfortable. No registration needed\, simply drop in on Wednesday afternoons. \nFor more information about Singing for the Brain and other wellbeing programs at Putney Library\, contact 020 8780 3085 or email Putney.Library@GLL.org.
URL:https://putney.news/event/singing-for-the-brain/2026-04-22/
LOCATION:Putney Library\, 5-7 Disraeli Road\, London\, England\, SW15 2DR\, United Kingdom
CATEGORIES:Health & Wellbeing
ATTACH;FMTTYPE=image/png:https://putney.news/wp-content/uploads/2025/10/health-wellbeing-3BHuAS.png
ORGANIZER;CN="Friends of Putney Library":MAILTO:charlene.coleman@gll.org
END:VEVENT
BEGIN:VEVENT
DTSTART;TZID=Europe/London:20260422T170000
DTEND;TZID=Europe/London:20260422T190000
DTSTAMP:20260422T093652
CREATED:20251030T114001Z
LAST-MODIFIED:20251030T114001Z
UID:10005739-1776877200-1776884400@putney.news
SUMMARY:Poetry Group
DESCRIPTION:Join Putney Library’s Poetry Group every Wednesday evening from 5-7pm. This welcoming weekly gathering brings together poets\, poetry enthusiasts\, and anyone interested in exploring the power of poetic language in a supportive\, creative environment. \nWhether you write poetry yourself\, love reading and analyzing poems\, or are simply curious about this rich literary form\, you’ll find kindred spirits here.  \nNo registration required – simply drop in on Wednesday evenings.  \nFor more information about the Poetry Group and other literary events at Putney Library\, contact 020 8780 3085 or email Putney.Library@GLL.org.
URL:https://putney.news/event/poetry-group/2026-04-22/
LOCATION:Putney Library\, 5-7 Disraeli Road\, London\, England\, SW15 2DR\, United Kingdom
CATEGORIES:Book event
ATTACH;FMTTYPE=image/png:https://putney.news/wp-content/uploads/2025/09/book-event-J7s0Qh.png
ORGANIZER;CN="Friends of Putney Library":MAILTO:charlene.coleman@gll.org
END:VEVENT
BEGIN:VEVENT
DTSTART;TZID=Europe/London:20260422T180000
DTEND;TZID=Europe/London:20260422T190000
DTSTAMP:20260422T093652
CREATED:20251108T113913Z
LAST-MODIFIED:20251108T113913Z
UID:10006038-1776880800-1776884400@putney.news
SUMMARY:Meditation Wednesday
DESCRIPTION:Join Putney Library every Wednesday evening from 6-7pm for a peaceful meditation session focused on relaxation\, mindfulness\, and mental wellbeing. This free weekly practice offers a valuable hour of calm in the midst of busy London life\, suitable for complete beginners and experienced meditators alike. \nMeditation has been scientifically proven to reduce stress and anxiety\, improve focus and concentration\, enhance emotional regulation\, promote better sleep\, lower blood pressure\, and increase overall sense of wellbeing. Regular practice\, even just an hour a week\, can make meaningful differences to mental and physical health. \nLed by an experienced meditation facilitator\, sessions typically include guided meditation practices\, breathing exercises\, mindfulness techniques\, brief teachings on meditation principles\, and time for silent practice and reflection. Various meditation styles may be explored\, helping participants discover what works best for them. \nThe library provides a quiet\, comfortable space conducive to meditation practice. Participants sit on chairs (no need for floor sitting unless preferred)\, and the atmosphere is welcoming and non-judgmental. Those new to meditation receive gentle guidance on posture\, breathing\, and managing distractions. \nNo special clothing or equipment needed – just come as you are with an open mind. The Wednesday evening timing makes this perfect for unwinding after work or starting your evening feeling centered and calm. \nNo registration required – simply drop in. For more information about meditation sessions and other wellbeing activities at Putney Library\, contact 020 8780 3085 or email Putney.Library@GLL.org.
URL:https://putney.news/event/meditation-wednesday/2026-04-22/
LOCATION:Putney Library\, 5-7 Disraeli Road\, London\, England\, SW15 2DR\, United Kingdom
CATEGORIES:Health & Wellbeing
ATTACH;FMTTYPE=image/png:https://putney.news/wp-content/uploads/2025/10/health-wellbeing-XZZAUQ.png
ORGANIZER;CN="Friends of Putney Library":MAILTO:charlene.coleman@gll.org
END:VEVENT
BEGIN:VEVENT
DTSTART;TZID=Europe/London:20260422T190000
DTEND;TZID=Europe/London:20260422T220000
DTSTAMP:20260422T093652
CREATED:20250721T154458Z
LAST-MODIFIED:20250721T154458Z
UID:10002751-1776884400-1776895200@putney.news
SUMMARY:Comedy Inc at The Railway
DESCRIPTION:Side-splitting comedy every Weds! \nEvery Wednesday\, Comedy Incorporated takes the stage in The Lounge bar at The Railway on Putney High Street. Join for big belly-laughs\, and great food from small plates (or pizza) while you are entertained. \nThe show starts at 7pm every week\, and tickets are free – grab one for you and a friend today!
URL:https://putney.news/event/comedy-inc-at-the-railway/2026-04-22/
LOCATION:The Railway Pub Putney\, 202 Upper Richmond Road\, London\, SW15 6TD\, United Kingdom
CATEGORIES:Comedy
ATTACH;FMTTYPE=image/png:https://putney.news/wp-content/uploads/2025/07/Comedy-night-railway.png
GEO:51.461044;-0.218452
X-APPLE-STRUCTURED-LOCATION;VALUE=URI;X-ADDRESS=The Railway Pub Putney 202 Upper Richmond Road London SW15 6TD United Kingdom;X-APPLE-RADIUS=500;X-TITLE=202 Upper Richmond Road:geo:-0.218452,51.461044
END:VEVENT
END:VCALENDAR